BEGIN:VCALENDAR
VERSION:2.0
PRODID:-//jEvents 2.0 for Joomla//EN
CALSCALE:GREGORIAN
METHOD:PUBLISH
BEGIN:VTIMEZONE
TZID:Europe/Berlin
BEGIN:STANDARD
DTSTART:20191027T020000
RDATE:20200329T030000
TZOFFSETFROM:+0200
TZOFFSETTO:+0100
TZNAME:Europe/Berlin CET
END:STANDARD
BEGIN:STANDARD
DTSTART:20201025T020000
RDATE:20210328T030000
TZOFFSETFROM:+0200
TZOFFSETTO:+0100
TZNAME:Europe/Berlin CET
END:STANDARD
BEGIN:STANDARD
DTSTART:20211031T020000
RDATE:20220327T030000
TZOFFSETFROM:+0200
TZOFFSETTO:+0100
TZNAME:Europe/Berlin CET
END:STANDARD
BEGIN:STANDARD
DTSTART:20221030T020000
RDATE:20230326T030000
TZOFFSETFROM:+0200
TZOFFSETTO:+0100
TZNAME:Europe/Berlin CET
END:STANDARD
BEGIN:STANDARD
DTSTART:20231029T020000
RDATE:20240331T030000
TZOFFSETFROM:+0200
TZOFFSETTO:+0100
TZNAME:Europe/Berlin CET
END:STANDARD
BEGIN:STANDARD
DTSTART:20241027T020000
RDATE:20250330T030000
TZOFFSETFROM:+0200
TZOFFSETTO:+0100
TZNAME:Europe/Berlin CET
END:STANDARD
BEGIN:STANDARD
DTSTART:20251026T020000
RDATE:20260329T030000
TZOFFSETFROM:+0200
TZOFFSETTO:+0100
TZNAME:Europe/Berlin CET
END:STANDARD
BEGIN:STANDARD
DTSTART:20261025T020000
RDATE:20270328T030000
TZOFFSETFROM:+0200
TZOFFSETTO:+0100
TZNAME:Europe/Berlin CET
END:STANDARD
BEGIN:STANDARD
DTSTART:20271031T020000
RDATE:20280326T030000
TZOFFSETFROM:+0200
TZOFFSETTO:+0100
TZNAME:Europe/Berlin CET
END:STANDARD
BEGIN:DAYLIGHT
DTSTART:20190827T190000
RDATE:20191027T020000
TZOFFSETFROM:+0100
TZOFFSETTO:+0200
TZNAME:Europe/Berlin CEST
END:DAYLIGHT
BEGIN:DAYLIGHT
DTSTART:20200329T030000
RDATE:20201025T020000
TZOFFSETFROM:+0100
TZOFFSETTO:+0200
TZNAME:Europe/Berlin CEST
END:DAYLIGHT
BEGIN:DAYLIGHT
DTSTART:20210328T030000
RDATE:20211031T020000
TZOFFSETFROM:+0100
TZOFFSETTO:+0200
TZNAME:Europe/Berlin CEST
END:DAYLIGHT
BEGIN:DAYLIGHT
DTSTART:20220327T030000
RDATE:20221030T020000
TZOFFSETFROM:+0100
TZOFFSETTO:+0200
TZNAME:Europe/Berlin CEST
END:DAYLIGHT
BEGIN:DAYLIGHT
DTSTART:20230326T030000
RDATE:20231029T020000
TZOFFSETFROM:+0100
TZOFFSETTO:+0200
TZNAME:Europe/Berlin CEST
END:DAYLIGHT
BEGIN:DAYLIGHT
DTSTART:20240331T030000
RDATE:20241027T020000
TZOFFSETFROM:+0100
TZOFFSETTO:+0200
TZNAME:Europe/Berlin CEST
END:DAYLIGHT
BEGIN:DAYLIGHT
DTSTART:20250330T030000
RDATE:20251026T020000
TZOFFSETFROM:+0100
TZOFFSETTO:+0200
TZNAME:Europe/Berlin CEST
END:DAYLIGHT
BEGIN:DAYLIGHT
DTSTART:20260329T030000
RDATE:20261025T020000
TZOFFSETFROM:+0100
TZOFFSETTO:+0200
TZNAME:Europe/Berlin CEST
END:DAYLIGHT
BEGIN:DAYLIGHT
DTSTART:20270328T030000
RDATE:20271031T020000
TZOFFSETFROM:+0100
TZOFFSETTO:+0200
TZNAME:Europe/Berlin CEST
END:DAYLIGHT
END:VTIMEZONE
BEGIN:VEVENT
UID:818c6293c737346d0e269e0f43c0ece9
CATEGORIES:Konzerte
CREATED:20190429T102257
SUMMARY:Michael von Zalejski "Bonsoir mes amis" 
LOCATION:Leibniz Theater\, Kommandanturstr. 7\, 30169 Hannover
DESCRIPTION:Bonsoir mes Amis! Michael von Zalejski &amp; Friends\nNach erfolgreichen 4 
 Jahren mit der Hommage an Udo Jürgens knüpft der charismatische Pianist und
  Sänger MvZ in seinem neuen Programm an die gelungene Mischung der Udo Jürg
 ens Lieder an und erweitert Sie durch Lieder, die dem Geist des einzigen de
 utschsprachigen Chansonniers entsprechen. Bei der Liedauswahl lässt MvZ sic
 h einerseits von tatsächlichen musikalischen Weggefährten wie Reinhard Mey,
  Udo Lindenberg oder Charles Aznavour inspirieren zum Anderen sucht er auch
  in eigenen Kompositionen oder lange im Schatten stehenden Liedern nach den
  passenden Mosaiksteinen, die aus dem Konzert einen besonderen Abend machen
 . Durch die zahlreichen Gespräche und Reaktionen nach den vergangenen Konze
 rten machte MvZ die Erfahrung, das sich zwar die Musik und der Name Udo Jür
 gens' als wichtiger roter Faden durch das Konzert ziehen, aber davon unabhä
 ngig die Lieder für sich wirken und stehen, weil sie einfach gut sind und f
 ast immer eine Geschichte erzählen, die den Zuhörer packt und ihm einen int
 ensiven und schönen Konzertabend bereitet, das gilt für den Udo Jürgens Fan
  gleichermaßen wie für den Freund guter Lieder. "Solange jemand nichts dage
 gen hat, dass jemand Lieder am Klavier singt garantiere ich, dass ihn diese
 r Abend berührt und bewegt!" Seine ureigene Interpretation der Lieder - gep
 aart mit trockenem Humor, komödiantischem Talent und die Fähigkeit zwischen
  authentischer Gerührtheit und bissigem Kommentar hin und her zu switchen -
  eröffnen dem Konzertbesucher Erlebniswelten, die weit über einen reinen Sc
 hlagerabend hinausgehen. Er überrascht und der Udo Fan ist trotzdem nicht e
 nttäuscht sondern neu begeistert. Diese Stärken werden im neuen Programm um
 so mehr herausgestellt indem die Emotionale Wirkung der Lieder oberste Prio
 rität hat und MvZ sich in der Liedauswahl bei den bestenFreunden bedient, d
 ie Udo Jürgens musikalisch mit geprägt haben und die Nähe seiner Lieder zum
  französischen Chanson deutlich machen. Angetrieben durch die eigene Vorlie
 be zur französischen Sprache der Ess-, Fahr- , und Lebenskultur dieses Land
 es lässt MvZ mit "Udo Jürgens &amp; Friends" eine neue Dimension des Chanso
 nabends entstehen, die begeistert und im Gedächtnis bleibt.\n\nAchtung!!\nD
 iese Veranstaltung findet nicht wie geplant als Open-Air-Event im Biergarte
 n im "cavallo königliche Reithalle" statt. Die Veranstaltung findet im Leib
 niz Theater statt.\n
X-ALT-DESC;FMTTYPE=text/html:<p class="Text" style="text-align: justify;" align="center">Bonsoir mes Ami
 s! Michael von Zalejski &amp; Friends</p><p>Nach erfolgreichen 4 Jahren mit
  der Hommage an Udo Jürgens knüpft der charismatische Pianist und Sänger Mv
 Z in seinem neuen Programm an die gelungene Mischung der Udo Jürgens Lieder
  an und erweitert Sie durch Lieder, die dem Geist des einzigen deutschsprac
 higen Chansonniers entsprechen. Bei der Liedauswahl lässt MvZ sich einersei
 ts von tatsächlichen musikalischen Weggefährten wie Reinhard Mey, Udo Linde
 nberg oder Charles Aznavour inspirieren zum Anderen sucht er auch in eigene
 n Kompositionen oder lange im Schatten stehenden Liedern nach den passenden
  Mosaiksteinen, die aus dem Konzert einen besonderen Abend machen. Durch di
 e zahlreichen Gespräche und Reaktionen nach den vergangenen Konzerten macht
 e MvZ die Erfahrung, das sich zwar die Musik und der Name Udo Jürgens' als 
 wichtiger roter Faden durch das Konzert ziehen, aber davon unabhängig die L
 ieder für sich wirken und stehen, weil sie einfach gut sind und fast immer 
 eine Geschichte erzählen, die den Zuhörer packt und ihm einen intensiven un
 d schönen Konzertabend bereitet, das gilt für den Udo Jürgens Fan gleicherm
 aßen wie für den Freund guter Lieder. "Solange jemand nichts dagegen hat, d
 ass jemand Lieder am Klavier singt garantiere ich, dass ihn dieser Abend be
 rührt und bewegt!" Seine ureigene Interpretation der Lieder - gepaart mit t
 rockenem Humor, komödiantischem Talent und die Fähigkeit zwischen authentis
 cher Gerührtheit und bissigem Kommentar hin und her zu switchen - eröffnen 
 dem Konzertbesucher Erlebniswelten, die weit über einen reinen Schlageraben
 d hinausgehen. Er überrascht und der Udo Fan ist trotzdem nicht enttäuscht 
 sondern neu begeistert. Diese Stärken werden im neuen Programm umso mehr he
 rausgestellt indem die Emotionale Wirkung der Lieder oberste Priorität hat 
 und MvZ sich in der Liedauswahl bei den bestenFreunden bedient, die Udo Jür
 gens musikalisch mit geprägt haben und die Nähe seiner Lieder zum französis
 chen Chanson deutlich machen. Angetrieben durch die eigene Vorliebe zur fra
 nzösischen Sprache der Ess-, Fahr- , und Lebenskultur dieses Landes lässt M
 vZ mit "Udo Jürgens &amp; Friends" eine neue Dimension des Chansonabends en
 tstehen, die begeistert und im Gedächtnis bleibt.<br /><br /><span style="c
 olor: #ff0000;">Achtung!!</span><br /><span style="color: #ff0000;">Diese V
 eranstaltung findet nicht wie geplant als Open-Air-Event im Biergarten im "
 cavallo königliche Reithalle" statt. Die Veranstaltung findet im Leibniz Th
 eater statt.</span></p>
CONTACT:http://www.zalejski.de
X-EXTRAINFO:Einlass: 18h\nBeginn: 19h\nEintritt: 21,90 / 17,90 (erm.)\n\n
DTSTAMP:20260426T061446Z
DTSTART;TZID=Europe/Berlin:20200827T190000
SEQUENCE:0
TRANSP:OPAQUE
END:VEVENT
END:VCALENDAR