BEGIN:VCALENDAR
VERSION:2.0
PRODID:-//jEvents 2.0 for Joomla//EN
CALSCALE:GREGORIAN
METHOD:PUBLISH
BEGIN:VTIMEZONE
TZID:Europe/Berlin
BEGIN:STANDARD
DTSTART:20191027T020000
RDATE:20200329T030000
TZOFFSETFROM:+0200
TZOFFSETTO:+0100
TZNAME:Europe/Berlin CET
END:STANDARD
BEGIN:STANDARD
DTSTART:20201025T020000
RDATE:20210328T030000
TZOFFSETFROM:+0200
TZOFFSETTO:+0100
TZNAME:Europe/Berlin CET
END:STANDARD
BEGIN:STANDARD
DTSTART:20211031T020000
RDATE:20220327T030000
TZOFFSETFROM:+0200
TZOFFSETTO:+0100
TZNAME:Europe/Berlin CET
END:STANDARD
BEGIN:STANDARD
DTSTART:20221030T020000
RDATE:20230326T030000
TZOFFSETFROM:+0200
TZOFFSETTO:+0100
TZNAME:Europe/Berlin CET
END:STANDARD
BEGIN:STANDARD
DTSTART:20231029T020000
RDATE:20240331T030000
TZOFFSETFROM:+0200
TZOFFSETTO:+0100
TZNAME:Europe/Berlin CET
END:STANDARD
BEGIN:STANDARD
DTSTART:20241027T020000
RDATE:20250330T030000
TZOFFSETFROM:+0200
TZOFFSETTO:+0100
TZNAME:Europe/Berlin CET
END:STANDARD
BEGIN:STANDARD
DTSTART:20251026T020000
RDATE:20260329T030000
TZOFFSETFROM:+0200
TZOFFSETTO:+0100
TZNAME:Europe/Berlin CET
END:STANDARD
BEGIN:STANDARD
DTSTART:20261025T020000
RDATE:20270328T030000
TZOFFSETFROM:+0200
TZOFFSETTO:+0100
TZNAME:Europe/Berlin CET
END:STANDARD
BEGIN:STANDARD
DTSTART:20271031T020000
RDATE:20280326T030000
TZOFFSETFROM:+0200
TZOFFSETTO:+0100
TZNAME:Europe/Berlin CET
END:STANDARD
BEGIN:DAYLIGHT
DTSTART:20190712T180000
RDATE:20191027T020000
TZOFFSETFROM:+0100
TZOFFSETTO:+0200
TZNAME:Europe/Berlin CEST
END:DAYLIGHT
BEGIN:DAYLIGHT
DTSTART:20200329T030000
RDATE:20201025T020000
TZOFFSETFROM:+0100
TZOFFSETTO:+0200
TZNAME:Europe/Berlin CEST
END:DAYLIGHT
BEGIN:DAYLIGHT
DTSTART:20210328T030000
RDATE:20211031T020000
TZOFFSETFROM:+0100
TZOFFSETTO:+0200
TZNAME:Europe/Berlin CEST
END:DAYLIGHT
BEGIN:DAYLIGHT
DTSTART:20220327T030000
RDATE:20221030T020000
TZOFFSETFROM:+0100
TZOFFSETTO:+0200
TZNAME:Europe/Berlin CEST
END:DAYLIGHT
BEGIN:DAYLIGHT
DTSTART:20230326T030000
RDATE:20231029T020000
TZOFFSETFROM:+0100
TZOFFSETTO:+0200
TZNAME:Europe/Berlin CEST
END:DAYLIGHT
BEGIN:DAYLIGHT
DTSTART:20240331T030000
RDATE:20241027T020000
TZOFFSETFROM:+0100
TZOFFSETTO:+0200
TZNAME:Europe/Berlin CEST
END:DAYLIGHT
BEGIN:DAYLIGHT
DTSTART:20250330T030000
RDATE:20251026T020000
TZOFFSETFROM:+0100
TZOFFSETTO:+0200
TZNAME:Europe/Berlin CEST
END:DAYLIGHT
BEGIN:DAYLIGHT
DTSTART:20260329T030000
RDATE:20261025T020000
TZOFFSETFROM:+0100
TZOFFSETTO:+0200
TZNAME:Europe/Berlin CEST
END:DAYLIGHT
BEGIN:DAYLIGHT
DTSTART:20270328T030000
RDATE:20271031T020000
TZOFFSETFROM:+0100
TZOFFSETTO:+0200
TZNAME:Europe/Berlin CEST
END:DAYLIGHT
END:VTIMEZONE
BEGIN:VEVENT
UID:96a9f76a1df3876d82ed1da9f785095a
CATEGORIES:Konzerte
CREATED:20200616T181924
SUMMARY:Juliano Rossi "That's Amore!" , Start von "Kultur on The Beach"
LOCATION:Azzurro Beach\, Am Blauen See 119\, 30823 Garbsen
DESCRIPTION:Oliver Perau stammt aus Hannover. Er gründete bereits mit siebzehn die Rock
 band Terry Hoax und tourte in den 90ger Jahren quer durch Europa. Ihr große
 r Hit „Policy of truth“ ist noch immer der meist gespielte Song einer deuts
 chen Band auf MTV. 2018 feiert die Band ihr 30jähriges Bestehen.\n1996 erfa
 nd Oliver Perau sein Alter Ego Juliano Rossi und begann unten diesem Namen 
 eine zweite Karriere als Swing- und Jazzsänger. Seine Konzerte genießen ech
 ten Kultstatus und Rossi ist der erst dritte deutsche Musiker, der von dem 
 legendären New Yorker Jazz Label Blue Note unter Vertrag genommen wurde. 20
 16 feierte Juliano Rossi sein 20jähriges Bühnenjubiläum!\nSeit vier Jahren 
 engagiert Oliver Perau sich außerdem bei dem Projekt „Klang und Leben“, bei
  dem er zusammen mit anderen Musikern Konzerte für Menschen mit Demenz in P
 flegeeinrichtungen gibt.\nPressestimmen:\n"Wer sagt denn, dass Deutsche kei
 n Gespür für Eleganz, Swing und Humor haben!?" Berliner Morgenpost\n"Ein gr
 andioses Konzert!" Hannoversche Allgemeine Zeitung\n"Juliano Rossi glänzt m
 it vokaler Smartness!" Frankfurter Rundschau\n"Extrem unterhaltsam!" Die We
 lt\n"Der begnadete Swing-Sänger Juliano Rossi avanciert mühelos zur Attrakt
 ion des Abends. Vom Start weg bricht Rossi die Herzen der stolzesten Musikf
 ans. Atemloses Staunen. Mit gewaltiger Stimme hat Rossi den Saal im Griff."
  Westdeutsche Allgemeine Zeitung\n"Niemand swingt so rockig und wild wie Ju
 liano Rossi." Budapester Tageszeitung\n"Bei Juliano Rossi ist Entertainment
  garantiert!" Jazz News\n"Auf einer Skala von eins bis zehn bekommt Juliano
  Rossi von uns eine glatte elf." Guten Abend RTL\nDiese Veranstaltung finde
 t als Open-Air-Event unter Einhaltung der aktuellen Hygienevorschriften im 
 Azzurro Beach am Blauen See in Garbsen statt. \n\nBitte beachten Sie, bei A
 nreise mit dem Auto fallen Parkgebühren in Höhe von 2€ an. \nFür den Eintri
 tt zum See fallen 4€ an, die komplett für den Verzehr genutzt werden können
 . \n \n
X-ALT-DESC;FMTTYPE=text/html:<p>Oliver Perau stammt aus Hannover. Er gründete bereits mit siebzehn die R
 ockband Terry Hoax und tourte in den 90ger Jahren quer durch Europa. Ihr gr
 oßer Hit „Policy of truth“ ist noch immer der meist gespielte Song einer de
 utschen Band auf MTV. 2018 feiert die Band ihr 30jähriges Bestehen.</p><p>1
 996 erfand Oliver Perau sein Alter Ego Juliano Rossi und begann unten diese
 m Namen eine zweite Karriere als Swing- und Jazzsänger. Seine Konzerte geni
 eßen echten Kultstatus und Rossi ist der erst dritte deutsche Musiker, der 
 von dem legendären New Yorker Jazz Label Blue Note unter Vertrag genommen w
 urde. 2016 feierte Juliano Rossi sein 20jähriges Bühnenjubiläum!</p><p>Seit
  vier Jahren engagiert Oliver Perau sich außerdem bei dem Projekt „Klang un
 d Leben“, bei dem er zusammen mit anderen Musikern Konzerte für Menschen mi
 t Demenz in Pflegeeinrichtungen gibt.<br />Pressestimmen:<br />"Wer sagt de
 nn, dass Deutsche kein Gespür für Eleganz, Swing und Humor haben!?" Berline
 r Morgenpost<br />"Ein grandioses Konzert!" Hannoversche Allgemeine Zeitung
 <br />"Juliano Rossi glänzt mit vokaler Smartness!" Frankfurter Rundschau<b
 r />"Extrem unterhaltsam!" Die Welt<br />"Der begnadete Swing-Sänger Julian
 o Rossi avanciert mühelos zur Attraktion des Abends. Vom Start weg bricht R
 ossi die Herzen der stolzesten Musikfans. Atemloses Staunen. Mit gewaltiger
  Stimme hat Rossi den Saal im Griff." Westdeutsche Allgemeine Zeitung<br />
 "Niemand swingt so rockig und wild wie Juliano Rossi." Budapester Tageszeit
 ung<br />"Bei Juliano Rossi ist Entertainment garantiert!" Jazz News<br />"
 Auf einer Skala von eins bis zehn bekommt Juliano Rossi von uns eine glatte
  elf." Guten Abend RTL</p><p><span style="color: #ff0000;">Diese Veranstalt
 ung findet als Open-Air-Event unter Einhaltung der aktuellen Hygienevorschr
 iften im Azzurro Beach am Blauen See in Garbsen statt. <br /><br />Bitte be
 achten Sie, bei Anreise mit dem Auto fallen Parkgebühren in Höhe von 2€ an.
  <br />Für den Eintritt zum See fallen 4€ an, die komplett für den Verzehr 
 genutzt werden können. </span></p><p><span style="font-size: 24pt;"> </span
 ></p>
X-EXTRAINFO:Einlass: 17:00h\nBeginn: 18h\nEintritt: 25,90 / 21,90 (erm.)\n\n
DTSTAMP:20260425T230149Z
DTSTART;TZID=Europe/Berlin:20200712T180000
SEQUENCE:0
TRANSP:OPAQUE
END:VEVENT
END:VCALENDAR