BEGIN:VCALENDAR
VERSION:2.0
PRODID:-//jEvents 2.0 for Joomla//EN
CALSCALE:GREGORIAN
METHOD:PUBLISH
BEGIN:VTIMEZONE
TZID:Europe/Berlin
BEGIN:STANDARD
DTSTART:20191027T020000
RDATE:20200329T030000
TZOFFSETFROM:+0200
TZOFFSETTO:+0100
TZNAME:Europe/Berlin CET
END:STANDARD
BEGIN:STANDARD
DTSTART:20201025T020000
RDATE:20210328T030000
TZOFFSETFROM:+0200
TZOFFSETTO:+0100
TZNAME:Europe/Berlin CET
END:STANDARD
BEGIN:STANDARD
DTSTART:20211031T020000
RDATE:20220327T030000
TZOFFSETFROM:+0200
TZOFFSETTO:+0100
TZNAME:Europe/Berlin CET
END:STANDARD
BEGIN:STANDARD
DTSTART:20221030T020000
RDATE:20230326T030000
TZOFFSETFROM:+0200
TZOFFSETTO:+0100
TZNAME:Europe/Berlin CET
END:STANDARD
BEGIN:STANDARD
DTSTART:20231029T020000
RDATE:20240331T030000
TZOFFSETFROM:+0200
TZOFFSETTO:+0100
TZNAME:Europe/Berlin CET
END:STANDARD
BEGIN:STANDARD
DTSTART:20241027T020000
RDATE:20250330T030000
TZOFFSETFROM:+0200
TZOFFSETTO:+0100
TZNAME:Europe/Berlin CET
END:STANDARD
BEGIN:STANDARD
DTSTART:20251026T020000
RDATE:20260329T030000
TZOFFSETFROM:+0200
TZOFFSETTO:+0100
TZNAME:Europe/Berlin CET
END:STANDARD
BEGIN:STANDARD
DTSTART:20261025T020000
RDATE:20270328T030000
TZOFFSETFROM:+0200
TZOFFSETTO:+0100
TZNAME:Europe/Berlin CET
END:STANDARD
BEGIN:STANDARD
DTSTART:20271031T020000
RDATE:20280326T030000
TZOFFSETFROM:+0200
TZOFFSETTO:+0100
TZNAME:Europe/Berlin CET
END:STANDARD
BEGIN:DAYLIGHT
DTSTART:20190715T190000
RDATE:20191027T020000
TZOFFSETFROM:+0100
TZOFFSETTO:+0200
TZNAME:Europe/Berlin CEST
END:DAYLIGHT
BEGIN:DAYLIGHT
DTSTART:20200329T030000
RDATE:20201025T020000
TZOFFSETFROM:+0100
TZOFFSETTO:+0200
TZNAME:Europe/Berlin CEST
END:DAYLIGHT
BEGIN:DAYLIGHT
DTSTART:20210328T030000
RDATE:20211031T020000
TZOFFSETFROM:+0100
TZOFFSETTO:+0200
TZNAME:Europe/Berlin CEST
END:DAYLIGHT
BEGIN:DAYLIGHT
DTSTART:20220327T030000
RDATE:20221030T020000
TZOFFSETFROM:+0100
TZOFFSETTO:+0200
TZNAME:Europe/Berlin CEST
END:DAYLIGHT
BEGIN:DAYLIGHT
DTSTART:20230326T030000
RDATE:20231029T020000
TZOFFSETFROM:+0100
TZOFFSETTO:+0200
TZNAME:Europe/Berlin CEST
END:DAYLIGHT
BEGIN:DAYLIGHT
DTSTART:20240331T030000
RDATE:20241027T020000
TZOFFSETFROM:+0100
TZOFFSETTO:+0200
TZNAME:Europe/Berlin CEST
END:DAYLIGHT
BEGIN:DAYLIGHT
DTSTART:20250330T030000
RDATE:20251026T020000
TZOFFSETFROM:+0100
TZOFFSETTO:+0200
TZNAME:Europe/Berlin CEST
END:DAYLIGHT
BEGIN:DAYLIGHT
DTSTART:20260329T030000
RDATE:20261025T020000
TZOFFSETFROM:+0100
TZOFFSETTO:+0200
TZNAME:Europe/Berlin CEST
END:DAYLIGHT
BEGIN:DAYLIGHT
DTSTART:20270328T030000
RDATE:20271031T020000
TZOFFSETFROM:+0100
TZOFFSETTO:+0200
TZNAME:Europe/Berlin CEST
END:DAYLIGHT
END:VTIMEZONE
BEGIN:VEVENT
UID:3b5cf59e7be0ea50d69b9368be6be0a1
CATEGORIES:Konzerte
CREATED:20200616T182044
SUMMARY:Wolfgang Grieger und die High Nees "Betreutes Scheitern" "Kultur on The Beach" Open-Air
LOCATION:Azzurro Beach\, Am Blauen See 119\, 30823 Garbsen
DESCRIPTION:Wolfgang Grieger und die High NeesMusik ComedyBetreutes Scheitern  Betreute
 s Scheitern. Ein „Best of“ Programm der schönsten, beklopptesten und stimmu
 ngsvollsten Nummern des unnachahmlichen Musik Comedy Trios. Zutaten für ein
  gelungenes Musik Comedy Menü: 2 Esslöffel Quatsch, viel Musik und ein gut 
 durchgehangenes Stück Firlefanz. Selbstgebastelte Instrumente hinzufügen un
 d in Groove tauchen. Mit intelligent albernen Texten und Themen, die bisher
  kein Thema waren würzen. Spritzig, charmant durchmixen und alles auf eine 
 Bühne geben. Licht an. Fertig  Bei Wolfgang Grieger und den High Nees dreht
  sich alles um die verzwickten Bredouillen des Lebens. Man denke nur an ein
 geschlafene Füße während der Sitzblockade oder Mehl im Fön. Diese Fallstric
 ke werden aber nicht umschifft, sondern von den drei Hobby Kapitänen musika
 lisch angefahren,  getreu ihrem Seefahrer Motto: “Wir lassen uns das Sinken
  nicht verbieten“. Die Reiseroute führt vorbei an massenhaften Bestellungen
  im Internet (Bei mir steh‘n von den Nachbarn die Pakete), eigenen Unzuläng
 lichkeiten (Ich wollte immer ein Rebell sein, aber oft war mir nicht gut), 
 oder ewiger Liebe (Scheidungsparty). Selbst der Einkauf beim Bäcker kann zu
 m erotischen Abenteuer mutieren, wenn die Backwaren Zimtmöpse heißen.\n\nDi
 ese Veranstaltung findet als Open-Air-Event unter Einhaltung der aktuellen 
 Hygienevorschriften im Azzurro Beach am Blauen See in Garbsen statt. \n\nBi
 tte beachten Sie, bei Anreise mit dem Auto fallen Parkgebühren in Höhe von 
 2€ an. \nFür den Eintritt zum See fallen 4€ an, die komplett für den Verzeh
 r genutzt werden können. \n
X-ALT-DESC;FMTTYPE=text/html:<div class=""><span class="">Wolfgang Grieger und die High Nees</span></div
 ><div class=""><span class="">Musik Comedy</span></div><div class=""><span 
 class="">Betreutes Scheitern</span></div><div class=""> </div><div class=""
 > </div><div class=""><span class="">Betreutes Scheitern. </span></div><div
  class=""><span class="">Ein „Best of“ Programm der schönsten, bekloppteste
 n und stimmungsvollsten Nummern des unnachahmlichen Musik Comedy Trios.</sp
 an></div><div class=""> </div><div class=""><span class="">Zutaten für ein 
 gelungenes Musik Comedy Menü: </span></div><div class=""><span class="">2 E
 sslöffel Quatsch, viel Musik und ein gut durchgehangenes Stück Firlefanz. S
 elbstgebastelte Instrumente hinzufügen und in Groove tauchen. Mit intellige
 nt albernen Texten und Themen, die bisher kein Thema waren würzen. Spritzig
 , charmant durchmixen und alles auf eine Bühne geben. Licht an. Fertig</spa
 n></div><div class=""> </div><div class=""> </div><div class=""><span class
 ="">Bei Wolfgang Grieger und den High Nees dreht sich alles um die verzwick
 ten Bredouillen des Lebens. Man denke nur an eingeschlafene Füße während de
 r Sitzblockade oder Mehl im Fön. Diese Fallstricke werden aber nicht umschi
 fft, sondern von den drei Hobby Kapitänen musikalisch angefahren,  getreu i
 hrem Seefahrer Motto: “Wir lassen uns das Sinken nicht verbieten“. </span><
 /div><div class=""><span class="">Die Reiseroute führt vorbei an massenhaft
 en Bestellungen im Internet (Bei mir steh‘n von den Nachbarn die Pakete), e
 igenen Unzulänglichkeiten (Ich wollte immer ein Rebell sein, aber oft war m
 ir nicht gut), oder ewiger Liebe (Scheidungsparty). </span></div><div class
 =""><span class=""><span class="">Selbst der Einkauf beim Bäcker kann zum e
 rotischen Abenteuer mutieren, wenn die Backwaren Zimtmöpse heißen.<br /><br
  /></span></span><p><span style="color: #ff0000;">Diese Veranstaltung finde
 t als Open-Air-Event unter Einhaltung der aktuellen Hygienevorschriften im 
 Azzurro Beach am Blauen See in Garbsen statt. </span><br /><br /><span styl
 e="color: #ff0000;">Bitte beachten Sie, bei Anreise mit dem Auto fallen Par
 kgebühren in Höhe von 2€ an. </span><br /><span style="color: #ff0000;">Für
  den Eintritt zum See fallen 4€ an, die komplett für den Verzehr genutzt we
 rden können. </span></p></div>
X-EXTRAINFO:Einlass: 18:00h\nBeginn: 19h\nEintritt: 25,90€ / erm. 21,90€ \n
DTSTAMP:20260425T230148Z
DTSTART;TZID=Europe/Berlin:20200715T190000
SEQUENCE:0
TRANSP:OPAQUE
END:VEVENT
END:VCALENDAR