BEGIN:VCALENDAR
VERSION:2.0
PRODID:-//jEvents 2.0 for Joomla//EN
CALSCALE:GREGORIAN
METHOD:PUBLISH
BEGIN:VTIMEZONE
TZID:Europe/Berlin
BEGIN:STANDARD
DTSTART:20191027T020000
RDATE:20200329T030000
TZOFFSETFROM:+0200
TZOFFSETTO:+0100
TZNAME:Europe/Berlin CET
END:STANDARD
BEGIN:STANDARD
DTSTART:20201025T020000
RDATE:20210328T030000
TZOFFSETFROM:+0200
TZOFFSETTO:+0100
TZNAME:Europe/Berlin CET
END:STANDARD
BEGIN:STANDARD
DTSTART:20211031T020000
RDATE:20220327T030000
TZOFFSETFROM:+0200
TZOFFSETTO:+0100
TZNAME:Europe/Berlin CET
END:STANDARD
BEGIN:STANDARD
DTSTART:20221030T020000
RDATE:20230326T030000
TZOFFSETFROM:+0200
TZOFFSETTO:+0100
TZNAME:Europe/Berlin CET
END:STANDARD
BEGIN:STANDARD
DTSTART:20231029T020000
RDATE:20240331T030000
TZOFFSETFROM:+0200
TZOFFSETTO:+0100
TZNAME:Europe/Berlin CET
END:STANDARD
BEGIN:STANDARD
DTSTART:20241027T020000
RDATE:20250330T030000
TZOFFSETFROM:+0200
TZOFFSETTO:+0100
TZNAME:Europe/Berlin CET
END:STANDARD
BEGIN:STANDARD
DTSTART:20251026T020000
RDATE:20260329T030000
TZOFFSETFROM:+0200
TZOFFSETTO:+0100
TZNAME:Europe/Berlin CET
END:STANDARD
BEGIN:STANDARD
DTSTART:20261025T020000
RDATE:20270328T030000
TZOFFSETFROM:+0200
TZOFFSETTO:+0100
TZNAME:Europe/Berlin CET
END:STANDARD
BEGIN:STANDARD
DTSTART:20271031T020000
RDATE:20280326T030000
TZOFFSETFROM:+0200
TZOFFSETTO:+0100
TZNAME:Europe/Berlin CET
END:STANDARD
BEGIN:DAYLIGHT
DTSTART:20190719T180000
RDATE:20191027T020000
TZOFFSETFROM:+0100
TZOFFSETTO:+0200
TZNAME:Europe/Berlin CEST
END:DAYLIGHT
BEGIN:DAYLIGHT
DTSTART:20200329T030000
RDATE:20201025T020000
TZOFFSETFROM:+0100
TZOFFSETTO:+0200
TZNAME:Europe/Berlin CEST
END:DAYLIGHT
BEGIN:DAYLIGHT
DTSTART:20210328T030000
RDATE:20211031T020000
TZOFFSETFROM:+0100
TZOFFSETTO:+0200
TZNAME:Europe/Berlin CEST
END:DAYLIGHT
BEGIN:DAYLIGHT
DTSTART:20220327T030000
RDATE:20221030T020000
TZOFFSETFROM:+0100
TZOFFSETTO:+0200
TZNAME:Europe/Berlin CEST
END:DAYLIGHT
BEGIN:DAYLIGHT
DTSTART:20230326T030000
RDATE:20231029T020000
TZOFFSETFROM:+0100
TZOFFSETTO:+0200
TZNAME:Europe/Berlin CEST
END:DAYLIGHT
BEGIN:DAYLIGHT
DTSTART:20240331T030000
RDATE:20241027T020000
TZOFFSETFROM:+0100
TZOFFSETTO:+0200
TZNAME:Europe/Berlin CEST
END:DAYLIGHT
BEGIN:DAYLIGHT
DTSTART:20250330T030000
RDATE:20251026T020000
TZOFFSETFROM:+0100
TZOFFSETTO:+0200
TZNAME:Europe/Berlin CEST
END:DAYLIGHT
BEGIN:DAYLIGHT
DTSTART:20260329T030000
RDATE:20261025T020000
TZOFFSETFROM:+0100
TZOFFSETTO:+0200
TZNAME:Europe/Berlin CEST
END:DAYLIGHT
BEGIN:DAYLIGHT
DTSTART:20270328T030000
RDATE:20271031T020000
TZOFFSETFROM:+0100
TZOFFSETTO:+0200
TZNAME:Europe/Berlin CEST
END:DAYLIGHT
END:VTIMEZONE
BEGIN:VEVENT
UID:fc005f65c9c485ff6f3cd3a57c99020b
CATEGORIES:Comedy
CREATED:20200616T182515
SUMMARY:Kay Ray Sommer Spezial "Kultur on the Beach" Open-Air
LOCATION:Azzurro Beach\, Am Blauen See 119\, 30823 Garbsen
DESCRIPTION:"Kay Ray Show"\nGewinner der Lorscher Abts - 2019\nGewinner des Bremer Come
 dy Preis (Jurypreis) - 2019\nhttps://www.kayray.de/index.php\nhttps://www.f
 acebook.com/KayRayofficial/\nhttps://www.instagram.com/kayraykunst/\nAus Be
 rufung und Leidenschaft und seit fast 30 Jahren ist Kay Ray\nhardest workin
 g man in showbiz. Ein Könner, der für einen Gag\nseine Oma verkaufen würde 
 - zumindest aber Claudia Roth. Ein\ngöttlicher Gaukler .Ein Spaßmacher ohne
  Furcht und Tadel. Ein sich\nimmer wieder wandelndes Naturtalent. Ein Provo
 kateur, der das\ngesamte Genre mit-geprägt und beeinflusst hat.\nIngmar Sta
 delmann in einem Interview im Oktober 19: “Wenn mich etwas an der deutschen
 \nComedylandschaft nervt, dann, dass zum Beispiel ein Comedian wie Kay Ray 
 nach über 20 Jahren Bühne\nund Genialität immer noch keine anständige Aufme
 rksamkeit in der Fernsehlandschaft bekommt, oder gar\neine eigene Show. Das
  erscheint mir absurd. Aber wer bin ich schon?“\nTorsten Sträter über Kay R
 ay: "Du bist Kay Ray und das ist ganz viel. Du bist ein Gesamtkunstwerk, ei
 n\nEinmannzirkus. Du bist der Sensenmann des Humors…“\nArnulf Rating: "Kay 
 Ray - einer, der mit allem, was er hat, für seine Wahrheit einsteht. Jedes 
 Risiko geht er\nein. Und ist dabei eine funkensprühende Fröhlichkeitsgranat
 e mit hoher Sprengkraft. Das muss man live\nerleben! Hingehen!"\nChris Tal 
 bedankte sich bei der Bambi Verleihung im November 2019 bei Kay Ray. Verdan
 kte er doch\nseinen Durchbruch bei Stefan Raab einer Haltung und einem Witz
 , der maßgeblich von Kay Ray geprägt\nund im Sinne von Chris Tal auf die Bü
 hne gebracht wurde. Darf er das?“ wäre ohne Kay Ray‘s Inspiration\nnicht mö
 glich gewesen.\nKay Ray ist der fleischgewordene Klingelstreich: Provokatio
 n und\nPoesie! Trash und Tabula rasa! Experiment und Extase! Anarchie und\n
 Amour fou! Klamauk und Kabarett! Comedy und Chanson! Als Sänger\nerreicht e
 r unsere Herzen, als Clown jedes Zwerchfell und als\nProvokateur jeden Klei
 ngeist. Keiner ist sicher vor seinen Zoten\nund seinem Zauber. Das macht ih
 n so anders. Und es macht seine\nShows so anders - Abend für Abend. Erleben
  Sie es selbst!\n\n\nDiese Veranstaltung findet als Open-Air-Event unter Ei
 nhaltung der aktuellen Hygienevorschriften im Azzurro Beach am Blauen See i
 n Garbsen statt. \n\nBitte beachten Sie, bei Anreise mit dem Auto fallen Pa
 rkgebühren in Höhe von 2€ an. \nFür den Eintritt zum See fallen 4€ an, die 
 komplett für den Verzehr genutzt werden können. \n
X-ALT-DESC;FMTTYPE=text/html:<p>"Kay Ray Show"</p><p>Gewinner der Lorscher Abts - 2019</p><p>Gewinner de
 s Bremer Comedy Preis (Jurypreis) - 2019</p><p>https://www.kayray.de/index.
 php</p><p>https://www.facebook.com/KayRayofficial/</p><p>https://www.instag
 ram.com/kayraykunst/</p><p>Aus Berufung und Leidenschaft und seit fast 30 J
 ahren ist Kay Ray</p><p>hardest working man in showbiz. Ein Könner, der für
  einen Gag</p><p>seine Oma verkaufen würde - zumindest aber Claudia Roth. E
 in</p><p>göttlicher Gaukler .Ein Spaßmacher ohne Furcht und Tadel. Ein sich
 </p><p>immer wieder wandelndes Naturtalent. Ein Provokateur, der das</p><p>
 gesamte Genre mit-geprägt und beeinflusst hat.</p><p>Ingmar Stadelmann in e
 inem Interview im Oktober 19: “Wenn mich etwas an der deutschen</p><p>Comed
 ylandschaft nervt, dann, dass zum Beispiel ein Comedian wie Kay Ray nach üb
 er 20 Jahren Bühne</p><p>und Genialität immer noch keine anständige Aufmerk
 samkeit in der Fernsehlandschaft bekommt, oder gar</p><p>eine eigene Show. 
 Das erscheint mir absurd. Aber wer bin ich schon?“</p><p>Torsten Sträter üb
 er Kay Ray: "Du bist Kay Ray und das ist ganz viel. Du bist ein Gesamtkunst
 werk, ein</p><p>Einmannzirkus. Du bist der Sensenmann des Humors…“</p><p>Ar
 nulf Rating: "Kay Ray - einer, der mit allem, was er hat, für seine Wahrhei
 t einsteht. Jedes Risiko geht er</p><p>ein. Und ist dabei eine funkensprühe
 nde Fröhlichkeitsgranate mit hoher Sprengkraft. Das muss man live</p><p>erl
 eben! Hingehen!"</p><p>Chris Tal bedankte sich bei der Bambi Verleihung im 
 November 2019 bei Kay Ray. Verdankte er doch</p><p>seinen Durchbruch bei St
 efan Raab einer Haltung und einem Witz, der maßgeblich von Kay Ray geprägt<
 /p><p>und im Sinne von Chris Tal auf die Bühne gebracht wurde. Darf er das?
 “ wäre ohne Kay Ray‘s Inspiration</p><p>nicht möglich gewesen.</p><p>Kay Ra
 y ist der fleischgewordene Klingelstreich: Provokation und</p><p>Poesie! Tr
 ash und Tabula rasa! Experiment und Extase! Anarchie und</p><p>Amour fou! K
 lamauk und Kabarett! Comedy und Chanson! Als Sänger</p><p>erreicht er unser
 e Herzen, als Clown jedes Zwerchfell und als</p><p>Provokateur jeden Kleing
 eist. Keiner ist sicher vor seinen Zoten</p><p>und seinem Zauber. Das macht
  ihn so anders. Und es macht seine</p><p>Shows so anders - Abend für Abend.
  Erleben Sie es selbst!<br /><br /></p><p><span style="color: #ff0000;">Die
 se Veranstaltung findet als Open-Air-Event unter Einhaltung der aktuellen H
 ygienevorschriften im Azzurro Beach am Blauen See in Garbsen statt. </span>
 <br /><br /><span style="color: #ff0000;">Bitte beachten Sie, bei Anreise m
 it dem Auto fallen Parkgebühren in Höhe von 2€ an. </span><br /><span style
 ="color: #ff0000;">Für den Eintritt zum See fallen 4€ an, die komplett für 
 den Verzehr genutzt werden können. </span></p>
X-EXTRAINFO:Einlass: 17:00h\nBeginn: 18h\nEintritt: 25,90 € / 21,90 € (Erm.)\n\n
DTSTAMP:20260425T230148Z
DTSTART;TZID=Europe/Berlin:20200719T180000
SEQUENCE:0
TRANSP:OPAQUE
END:VEVENT
END:VCALENDAR