BEGIN:VCALENDAR
VERSION:2.0
PRODID:-//jEvents 2.0 for Joomla//EN
CALSCALE:GREGORIAN
METHOD:PUBLISH
BEGIN:VTIMEZONE
TZID:Europe/Berlin
BEGIN:STANDARD
DTSTART:20191027T020000
RDATE:20200329T030000
TZOFFSETFROM:+0200
TZOFFSETTO:+0100
TZNAME:Europe/Berlin CET
END:STANDARD
BEGIN:STANDARD
DTSTART:20201025T020000
RDATE:20210328T030000
TZOFFSETFROM:+0200
TZOFFSETTO:+0100
TZNAME:Europe/Berlin CET
END:STANDARD
BEGIN:STANDARD
DTSTART:20211031T020000
RDATE:20220327T030000
TZOFFSETFROM:+0200
TZOFFSETTO:+0100
TZNAME:Europe/Berlin CET
END:STANDARD
BEGIN:STANDARD
DTSTART:20221030T020000
RDATE:20230326T030000
TZOFFSETFROM:+0200
TZOFFSETTO:+0100
TZNAME:Europe/Berlin CET
END:STANDARD
BEGIN:STANDARD
DTSTART:20231029T020000
RDATE:20240331T030000
TZOFFSETFROM:+0200
TZOFFSETTO:+0100
TZNAME:Europe/Berlin CET
END:STANDARD
BEGIN:STANDARD
DTSTART:20241027T020000
RDATE:20250330T030000
TZOFFSETFROM:+0200
TZOFFSETTO:+0100
TZNAME:Europe/Berlin CET
END:STANDARD
BEGIN:STANDARD
DTSTART:20251026T020000
RDATE:20260329T030000
TZOFFSETFROM:+0200
TZOFFSETTO:+0100
TZNAME:Europe/Berlin CET
END:STANDARD
BEGIN:STANDARD
DTSTART:20261025T020000
RDATE:20270328T030000
TZOFFSETFROM:+0200
TZOFFSETTO:+0100
TZNAME:Europe/Berlin CET
END:STANDARD
BEGIN:STANDARD
DTSTART:20271031T020000
RDATE:20280326T030000
TZOFFSETFROM:+0200
TZOFFSETTO:+0100
TZNAME:Europe/Berlin CET
END:STANDARD
BEGIN:DAYLIGHT
DTSTART:20190722T190000
RDATE:20191027T020000
TZOFFSETFROM:+0100
TZOFFSETTO:+0200
TZNAME:Europe/Berlin CEST
END:DAYLIGHT
BEGIN:DAYLIGHT
DTSTART:20200329T030000
RDATE:20201025T020000
TZOFFSETFROM:+0100
TZOFFSETTO:+0200
TZNAME:Europe/Berlin CEST
END:DAYLIGHT
BEGIN:DAYLIGHT
DTSTART:20210328T030000
RDATE:20211031T020000
TZOFFSETFROM:+0100
TZOFFSETTO:+0200
TZNAME:Europe/Berlin CEST
END:DAYLIGHT
BEGIN:DAYLIGHT
DTSTART:20220327T030000
RDATE:20221030T020000
TZOFFSETFROM:+0100
TZOFFSETTO:+0200
TZNAME:Europe/Berlin CEST
END:DAYLIGHT
BEGIN:DAYLIGHT
DTSTART:20230326T030000
RDATE:20231029T020000
TZOFFSETFROM:+0100
TZOFFSETTO:+0200
TZNAME:Europe/Berlin CEST
END:DAYLIGHT
BEGIN:DAYLIGHT
DTSTART:20240331T030000
RDATE:20241027T020000
TZOFFSETFROM:+0100
TZOFFSETTO:+0200
TZNAME:Europe/Berlin CEST
END:DAYLIGHT
BEGIN:DAYLIGHT
DTSTART:20250330T030000
RDATE:20251026T020000
TZOFFSETFROM:+0100
TZOFFSETTO:+0200
TZNAME:Europe/Berlin CEST
END:DAYLIGHT
BEGIN:DAYLIGHT
DTSTART:20260329T030000
RDATE:20261025T020000
TZOFFSETFROM:+0100
TZOFFSETTO:+0200
TZNAME:Europe/Berlin CEST
END:DAYLIGHT
BEGIN:DAYLIGHT
DTSTART:20270328T030000
RDATE:20271031T020000
TZOFFSETFROM:+0100
TZOFFSETTO:+0200
TZNAME:Europe/Berlin CEST
END:DAYLIGHT
END:VTIMEZONE
BEGIN:VEVENT
UID:cc0a98261a0fd97890424da0a747b898
CATEGORIES:Theater
CREATED:20200617T150932
SUMMARY:SAX on the Beach feat. David Milzow "Kultur on the Beach" Open-Air
LOCATION:Azzurro Beach\, Am Blauen See 119\, 30823 Garbsen
DESCRIPTION:<blockquote class=""><div class=""><div class=""><div class="">Zusammen mit
  der international besetzten Band The Screenclub stellt er im ersten Konzer
 t der Reihe eine<br />innovative wie ins Ohr gehende Mixtur aus Soul, Pop u
 nd Jazz vor:<br />u. a. mit Songs von Stevie Wonder, Barry White, Michael J
 ackson bis hin zu zeitgenössischen Interpreten<br />wie Pharrell Williams u
 nd eigenen Kompositionen wird dabei dem ehrwürdigen Soul-Jazz- Genre eine o
 rdentliche Frischzellenkur verpasst! <br />David Milzow als musikalischer G
 astgeber ist für sein genre´-übergreifendes, multistilistisches Konzept<br 
 />national wie international bekannt und gewürdigt. Im regelmäßigen Turnus 
 veröffentlicht er mit seinen Gruppen<br />spannende Jazzformate, die bei al
 ler Virtuosität der Protagonisten immer den Kontakt zum Publikum halten.<br
  /><br /><p><span style="color: #ff0000;">Diese Veranstaltung findet als Op
 en-Air-Event unter Einhaltung der aktuellen Hygienevorschriften im Azzurro 
 Beach am Blauen See in Garbsen statt. </span><br /><br /><span style="color
 : #ff0000;">Bitte beachten Sie, bei Anreise mit dem Auto fallen Parkgebühre
 n in Höhe von 2€ an. </span><br /><span style="color: #ff0000;">Für den Ein
 tritt zum See fallen 4€ an, die komplett für den Verzehr genutzt werden kön
 nen. </span></p></div></div></div></blockquote>
X-EXTRAINFO:Einlass: 18:00h\nBeginn: 19h\nEintritt: 25,90 €, 21,90 €
DTSTAMP:20260425T230240Z
DTSTART;TZID=Europe/Berlin:20200722T190000
SEQUENCE:0
TRANSP:OPAQUE
END:VEVENT
END:VCALENDAR