BEGIN:VCALENDAR
VERSION:2.0
PRODID:-//jEvents 2.0 for Joomla//EN
CALSCALE:GREGORIAN
METHOD:PUBLISH
BEGIN:VTIMEZONE
TZID:Europe/Berlin
BEGIN:STANDARD
DTSTART:20191027T020000
RDATE:20200329T030000
TZOFFSETFROM:+0200
TZOFFSETTO:+0100
TZNAME:Europe/Berlin CET
END:STANDARD
BEGIN:STANDARD
DTSTART:20201025T020000
RDATE:20210328T030000
TZOFFSETFROM:+0200
TZOFFSETTO:+0100
TZNAME:Europe/Berlin CET
END:STANDARD
BEGIN:STANDARD
DTSTART:20211031T020000
RDATE:20220327T030000
TZOFFSETFROM:+0200
TZOFFSETTO:+0100
TZNAME:Europe/Berlin CET
END:STANDARD
BEGIN:STANDARD
DTSTART:20221030T020000
RDATE:20230326T030000
TZOFFSETFROM:+0200
TZOFFSETTO:+0100
TZNAME:Europe/Berlin CET
END:STANDARD
BEGIN:STANDARD
DTSTART:20231029T020000
RDATE:20240331T030000
TZOFFSETFROM:+0200
TZOFFSETTO:+0100
TZNAME:Europe/Berlin CET
END:STANDARD
BEGIN:STANDARD
DTSTART:20241027T020000
RDATE:20250330T030000
TZOFFSETFROM:+0200
TZOFFSETTO:+0100
TZNAME:Europe/Berlin CET
END:STANDARD
BEGIN:STANDARD
DTSTART:20251026T020000
RDATE:20260329T030000
TZOFFSETFROM:+0200
TZOFFSETTO:+0100
TZNAME:Europe/Berlin CET
END:STANDARD
BEGIN:STANDARD
DTSTART:20261025T020000
RDATE:20270328T030000
TZOFFSETFROM:+0200
TZOFFSETTO:+0100
TZNAME:Europe/Berlin CET
END:STANDARD
BEGIN:STANDARD
DTSTART:20271031T020000
RDATE:20280326T030000
TZOFFSETFROM:+0200
TZOFFSETTO:+0100
TZNAME:Europe/Berlin CET
END:STANDARD
BEGIN:DAYLIGHT
DTSTART:20190802T180000
RDATE:20191027T020000
TZOFFSETFROM:+0100
TZOFFSETTO:+0200
TZNAME:Europe/Berlin CEST
END:DAYLIGHT
BEGIN:DAYLIGHT
DTSTART:20200329T030000
RDATE:20201025T020000
TZOFFSETFROM:+0100
TZOFFSETTO:+0200
TZNAME:Europe/Berlin CEST
END:DAYLIGHT
BEGIN:DAYLIGHT
DTSTART:20210328T030000
RDATE:20211031T020000
TZOFFSETFROM:+0100
TZOFFSETTO:+0200
TZNAME:Europe/Berlin CEST
END:DAYLIGHT
BEGIN:DAYLIGHT
DTSTART:20220327T030000
RDATE:20221030T020000
TZOFFSETFROM:+0100
TZOFFSETTO:+0200
TZNAME:Europe/Berlin CEST
END:DAYLIGHT
BEGIN:DAYLIGHT
DTSTART:20230326T030000
RDATE:20231029T020000
TZOFFSETFROM:+0100
TZOFFSETTO:+0200
TZNAME:Europe/Berlin CEST
END:DAYLIGHT
BEGIN:DAYLIGHT
DTSTART:20240331T030000
RDATE:20241027T020000
TZOFFSETFROM:+0100
TZOFFSETTO:+0200
TZNAME:Europe/Berlin CEST
END:DAYLIGHT
BEGIN:DAYLIGHT
DTSTART:20250330T030000
RDATE:20251026T020000
TZOFFSETFROM:+0100
TZOFFSETTO:+0200
TZNAME:Europe/Berlin CEST
END:DAYLIGHT
BEGIN:DAYLIGHT
DTSTART:20260329T030000
RDATE:20261025T020000
TZOFFSETFROM:+0100
TZOFFSETTO:+0200
TZNAME:Europe/Berlin CEST
END:DAYLIGHT
BEGIN:DAYLIGHT
DTSTART:20270328T030000
RDATE:20271031T020000
TZOFFSETFROM:+0100
TZOFFSETTO:+0200
TZNAME:Europe/Berlin CEST
END:DAYLIGHT
END:VTIMEZONE
BEGIN:VEVENT
UID:1d2f8670d6d9259f726023b865166c45
CATEGORIES:Comedy, Mixshow
CREATED:20200617T155945
SUMMARY:Comedy vom Feinsten "Kultur on the Beach" Open-Air
LOCATION:Azzurro Beach\, Am Blauen See 119\, 30823 Garbsen
DESCRIPTION:<blockquote class=""><div class=""><div class=""><div class="">Comedy-Mix m
 it:<br /><br />Michael Eller - Unter Kreuzfahrten, Captain Comedy legt ab<b
 r />Andreas Weber - Single Dad, Teilzeit Alleinerziehend<br />Olaf Bossi - 
 Endlich Minimalist...aber wohin mit meinen Sachen<br /><br />Michael Eller:
  Comedian Michael Eller hat als Gast Komiker schon über 50 Mal auf Schiffen
  der AIDA Flotte abgelegt, um Urlauber auf Salzwasser zu bespaßen und sie d
 abei eingehend zu studieren.<br /><br />Ganz gleich, ob Sie schon mit dem „
 Kreuzfahrt-Virus“ infiziert sind oder sich noch fragen was Sie auf einer so
 lchen Reise erwartet, Captain Comedy gibt ihnen lustige und spannende Einbl
 icke in die Welt der Kreuzfahrer und ihrer Marotten, der Crew und ihrer Sto
 rys, sowie der Einheimischen, auf die er bei jedem Landgang trifft.<br /><b
 r />Andreas Weber: Wäsche waschen, Essen kochen, Klamotten kaufen. Frauensa
 che?<br />,,Ganz sicher nicht!", weiß auch Single-Dad Andreas Weber, der al
 s frischgebackener Junggeselle vor den Herausforderungen der Erziehung zwei
 er pubertierender Söhne steht. In seinem ersten Solo-Programm "SINGLE DAD -
  TEILZEIT ALLEINERZIEHEND" wird Andreas zum RATGEBER FÜR GESCHUNDENE MÄNNER
 -NERVEN und bietet der Frauenwelt Einblicke in die Psyche des angeblich sta
 rken Geschlechts. Mit durchaus kreativen Erklärungen präsentiert Andreas ei
 ne Weltsicht, die mitunter mehr als nur zart nach Ausrede riecht. Freuen Si
 e sich auf wahrhaft männliche Comedy mit einer dicken Prise Charme!<br /><b
 r />Olaf Bossi: Wie Olaf Bossi den Minimalismus für sich entdeckte. Ein hum
 orvoll-aufgeräumtes Comedy &amp; Kabarett Programm durch den Weniger-ist-me
 hr-Dschungel.<br /><br />Brauche ich das wirklich? Oder kann das weg? Diese
  Frage hat sich Olaf Bossi vor einigen Jahren gestellt. Während sich in Woh
 nung, Kalender und Kopf Gegenstände, Termine und Gedanken türmten, war das 
 Konto immer viel zu schnell leer und es fehlten Zeit, Freiheit und Zufriede
 nheit.<br /><br />Olaf Bossi war klar: Es war Zeit für einen Neuanfang. Doc
 h wie? Als zweifacher Familienvater waren die Handlungsmöglichkeiten begren
 zt. Die Weltreise mit Selbstfindungstrip war ausgeschlossen. Statt weiterhi
 n zu versuchen sich glücklich zu konsumieren, begann er bewusster zu leben.
  Doch diese „Diät der Dinge“ war leichter gesagt als getan.<br /><br />Welc
 he Methoden des Aufräumens und Ausmistens grandios funktionierten und welch
 e floppten, das hat Olaf Bossi auf einer zweijährigen Abenteuerreise durch 
 den Minimalismus Kosmos erkundet.<br /><p><span style="color: #ff0000;">Die
 se Veranstaltung findet als Open-Air-Event unter Einhaltung der aktuellen H
 ygienevorschriften im Azzurro Beach am Blauen See in Garbsen statt. </span>
 <br /><br /><span style="color: #ff0000;">Bitte beachten Sie, bei Anreise m
 it dem Auto fallen Parkgebühren in Höhe von 2€ an. </span><br /><span style
 ="color: #ff0000;">Für den Eintritt zum See fallen 4€ an, die komplett für 
 den Verzehr genutzt werden können</span></p></div></div></div></blockquote>
X-EXTRAINFO:Einlass: 17:00h\nBeginn: 18h\nEintritt: 25,90 €, 21,90 €
DTSTAMP:20260426T024924Z
DTSTART;TZID=Europe/Berlin:20200802T180000
SEQUENCE:0
TRANSP:OPAQUE
END:VEVENT
END:VCALENDAR