BEGIN:VCALENDAR
VERSION:2.0
PRODID:-//jEvents 2.0 for Joomla//EN
CALSCALE:GREGORIAN
METHOD:PUBLISH
BEGIN:VTIMEZONE
TZID:Europe/Berlin
BEGIN:STANDARD
DTSTART:20191027T020000
RDATE:20200329T030000
TZOFFSETFROM:+0200
TZOFFSETTO:+0100
TZNAME:Europe/Berlin CET
END:STANDARD
BEGIN:STANDARD
DTSTART:20201025T020000
RDATE:20210328T030000
TZOFFSETFROM:+0200
TZOFFSETTO:+0100
TZNAME:Europe/Berlin CET
END:STANDARD
BEGIN:STANDARD
DTSTART:20211031T020000
RDATE:20220327T030000
TZOFFSETFROM:+0200
TZOFFSETTO:+0100
TZNAME:Europe/Berlin CET
END:STANDARD
BEGIN:STANDARD
DTSTART:20221030T020000
RDATE:20230326T030000
TZOFFSETFROM:+0200
TZOFFSETTO:+0100
TZNAME:Europe/Berlin CET
END:STANDARD
BEGIN:STANDARD
DTSTART:20231029T020000
RDATE:20240331T030000
TZOFFSETFROM:+0200
TZOFFSETTO:+0100
TZNAME:Europe/Berlin CET
END:STANDARD
BEGIN:STANDARD
DTSTART:20241027T020000
RDATE:20250330T030000
TZOFFSETFROM:+0200
TZOFFSETTO:+0100
TZNAME:Europe/Berlin CET
END:STANDARD
BEGIN:STANDARD
DTSTART:20251026T020000
RDATE:20260329T030000
TZOFFSETFROM:+0200
TZOFFSETTO:+0100
TZNAME:Europe/Berlin CET
END:STANDARD
BEGIN:STANDARD
DTSTART:20261025T020000
RDATE:20270328T030000
TZOFFSETFROM:+0200
TZOFFSETTO:+0100
TZNAME:Europe/Berlin CET
END:STANDARD
BEGIN:STANDARD
DTSTART:20271031T020000
RDATE:20280326T030000
TZOFFSETFROM:+0200
TZOFFSETTO:+0100
TZNAME:Europe/Berlin CET
END:STANDARD
BEGIN:DAYLIGHT
DTSTART:20190805T190000
RDATE:20191027T020000
TZOFFSETFROM:+0100
TZOFFSETTO:+0200
TZNAME:Europe/Berlin CEST
END:DAYLIGHT
BEGIN:DAYLIGHT
DTSTART:20200329T030000
RDATE:20201025T020000
TZOFFSETFROM:+0100
TZOFFSETTO:+0200
TZNAME:Europe/Berlin CEST
END:DAYLIGHT
BEGIN:DAYLIGHT
DTSTART:20210328T030000
RDATE:20211031T020000
TZOFFSETFROM:+0100
TZOFFSETTO:+0200
TZNAME:Europe/Berlin CEST
END:DAYLIGHT
BEGIN:DAYLIGHT
DTSTART:20220327T030000
RDATE:20221030T020000
TZOFFSETFROM:+0100
TZOFFSETTO:+0200
TZNAME:Europe/Berlin CEST
END:DAYLIGHT
BEGIN:DAYLIGHT
DTSTART:20230326T030000
RDATE:20231029T020000
TZOFFSETFROM:+0100
TZOFFSETTO:+0200
TZNAME:Europe/Berlin CEST
END:DAYLIGHT
BEGIN:DAYLIGHT
DTSTART:20240331T030000
RDATE:20241027T020000
TZOFFSETFROM:+0100
TZOFFSETTO:+0200
TZNAME:Europe/Berlin CEST
END:DAYLIGHT
BEGIN:DAYLIGHT
DTSTART:20250330T030000
RDATE:20251026T020000
TZOFFSETFROM:+0100
TZOFFSETTO:+0200
TZNAME:Europe/Berlin CEST
END:DAYLIGHT
BEGIN:DAYLIGHT
DTSTART:20260329T030000
RDATE:20261025T020000
TZOFFSETFROM:+0100
TZOFFSETTO:+0200
TZNAME:Europe/Berlin CEST
END:DAYLIGHT
BEGIN:DAYLIGHT
DTSTART:20270328T030000
RDATE:20271031T020000
TZOFFSETFROM:+0100
TZOFFSETTO:+0200
TZNAME:Europe/Berlin CEST
END:DAYLIGHT
END:VTIMEZONE
BEGIN:VEVENT
UID:c7b043b8d1519901fb9350d9236afe6d
CATEGORIES:Comedy, Mixshow
CREATED:20200617T161028
SUMMARY:Chanson, Comedy und Kabarett mit Hannover Künstler "Kultur on the Beach" Open-Air
LOCATION:Azzurro Beach\, Am Blauen See 119\, 30823 Garbsen
DESCRIPTION:Eine abwechslungsreiche Comedy-Musik-Mixshow mit Michael von Zalejski, die 
 Comedy Company, Stefanie Seeländer und Malte Hollmann\n\nComedy Company: Si
 e wollten schon immer mal bestimmen, worum es auf der Bühne gehen soll, ohn
 e dass es Sie selbst ins Rampenlicht drängt? Ihre Zeit ist gekommen, denn h
 eute können Sie die Puppen tanzen lassen!\nVerpassen Sie es nicht, wenn die
  Theatersport-Sieger des 16. internationalen Köln Comedy Festivals alle Reg
 ister ihres Könnens ziehen und nach den Vorstellungen des Publikums Lieder,
  Figuren, und sogar ganze Theaterstücke (Live-Musik!) improvisieren.\nVerge
 ssen Sie nicht Ihre Taschentücher, denn Sie werden Tränen lachen bei dieser
  großartigen Show voller Überraschung und Komik.\nSeit mehr als fünfzehn Ja
 hren begeistern die vielseitigen Großmeister der Freestyle-Comedy im ganzen
  Land, von Aachen bis Zwickau, im Quatsch Comedy Club, bei Hallervorden ode
 r auf den AIDA-Schiffen – und heute abend auch Sie!\n\n\n\nStefanie Seeländ
 er und Malte Hollmann:Unter dem Motto: “Ein Lied für jede Lebenslage“ präse
 ntieren die beiden eigenwillig-charmante und humorvolle Musikinterpretation
 en und Anekdoten aus dem alltäglichen Leben.\nSo werden die Höllenqualen be
 i einer Fahrt im ICE besungen oder über die Erotik der französischen Sprach
 e sinniert. Auch die Autoreise in den langersehnten Urlaub mit Kindern auf 
 der Rückbank ist ein Liedchen wert. Ob im Großraumbüro oder in der Schlange
  beim Bäcker... überall und in fast jeder Lebenslage gibt es etwas zu besin
 gen.\nSie nimmt’s mit Humor und macht uns allen damit den alltäglichen Wahn
 sinn ein wenig leichter. Entertainerin Stefanie Seeländer mit ihrer unnacha
 hmlichen und höchst erfrischenden Art versprüht Witz und Temperament und ma
 cht einfach jedem gute Laune.\nDiese Veranstaltung findet als Open-Air-Even
 t unter Einhaltung der aktuellen Hygienevorschriften im Azzurro Beach am Bl
 auen See in Garbsen statt. \n\nBitte beachten Sie, bei Anreise mit dem Auto
  fallen Parkgebühren in Höhe von 2€ an. \nFür den Eintritt zum See fallen 4
 € an, die komplett für den Verzehr genutzt werden können\n
X-ALT-DESC;FMTTYPE=text/html:<blockquote class=""><div class=""><div class=""><div class="">Eine abwechs
 lungsreiche Comedy-Musik-Mixshow mit Michael von Zalejski, die Comedy Compa
 ny, Stefanie Seeländer und Malte Hollmann<br /><br />Comedy Company: Sie wo
 llten schon immer mal bestimmen, worum es auf der Bühne gehen soll, ohne da
 ss es Sie selbst ins Rampenlicht drängt? Ihre Zeit ist gekommen, denn heute
  können Sie die Puppen tanzen lassen!<br />Verpassen Sie es nicht, wenn die
  Theatersport-Sieger des 16. internationalen Köln Comedy Festivals alle Reg
 ister ihres Könnens ziehen und nach den Vorstellungen des Publikums Lieder,
  Figuren, und sogar ganze Theaterstücke (Live-Musik!) improvisieren.<br />V
 ergessen Sie nicht Ihre Taschentücher, denn Sie werden Tränen lachen bei di
 eser großartigen Show voller Überraschung und Komik.<br />Seit mehr als fün
 fzehn Jahren begeistern die vielseitigen Großmeister der Freestyle-Comedy i
 m ganzen Land, von Aachen bis Zwickau, im Quatsch Comedy Club, bei Hallervo
 rden oder auf den AIDA-Schiffen – und heute abend auch Sie!<br /><br /><br 
 /><br />Stefanie Seeländer und Malte Hollmann:Unter dem Motto: “Ein Lied fü
 r jede Lebenslage“ präsentieren die beiden eigenwillig-charmante und humorv
 olle Musikinterpretationen und Anekdoten aus dem alltäglichen Leben.<br />S
 o werden die Höllenqualen bei einer Fahrt im ICE besungen oder über die Ero
 tik der französischen Sprache sinniert. Auch die Autoreise in den langerseh
 nten Urlaub mit Kindern auf der Rückbank ist ein Liedchen wert. Ob im Großr
 aumbüro oder in der Schlange beim Bäcker... überall und in fast jeder Leben
 slage gibt es etwas zu besingen.<br />Sie nimmt’s mit Humor und macht uns a
 llen damit den alltäglichen Wahnsinn ein wenig leichter. Entertainerin Stef
 anie Seeländer mit ihrer unnachahmlichen und höchst erfrischenden Art versp
 rüht Witz und Temperament und macht einfach jedem gute Laune.<br /><p><span
  style="color: #ff0000;">Diese Veranstaltung findet als Open-Air-Event unte
 r Einhaltung der aktuellen Hygienevorschriften im Azzurro Beach am Blauen S
 ee in Garbsen statt. </span><br /><br /><span style="color: #ff0000;">Bitte
  beachten Sie, bei Anreise mit dem Auto fallen Parkgebühren in Höhe von 2€ 
 an. </span><br /><span style="color: #ff0000;">Für den Eintritt zum See fal
 len 4€ an, die komplett für den Verzehr genutzt werden können</span></p></d
 iv></div></div></blockquote>
X-EXTRAINFO:Einlass: 18:00h\nBeginn: 19h\nEintritt: 25,90 €, 21,90 €
DTSTAMP:20260426T061448Z
DTSTART;TZID=Europe/Berlin:20200805T190000
SEQUENCE:0
TRANSP:OPAQUE
END:VEVENT
END:VCALENDAR