BEGIN:VCALENDAR
VERSION:2.0
PRODID:-//jEvents 2.0 for Joomla//EN
CALSCALE:GREGORIAN
METHOD:PUBLISH
BEGIN:VTIMEZONE
TZID:Europe/Berlin
BEGIN:STANDARD
DTSTART:20191027T020000
RDATE:20200329T030000
TZOFFSETFROM:+0200
TZOFFSETTO:+0100
TZNAME:Europe/Berlin CET
END:STANDARD
BEGIN:STANDARD
DTSTART:20201025T020000
RDATE:20210328T030000
TZOFFSETFROM:+0200
TZOFFSETTO:+0100
TZNAME:Europe/Berlin CET
END:STANDARD
BEGIN:STANDARD
DTSTART:20211031T020000
RDATE:20220327T030000
TZOFFSETFROM:+0200
TZOFFSETTO:+0100
TZNAME:Europe/Berlin CET
END:STANDARD
BEGIN:STANDARD
DTSTART:20221030T020000
RDATE:20230326T030000
TZOFFSETFROM:+0200
TZOFFSETTO:+0100
TZNAME:Europe/Berlin CET
END:STANDARD
BEGIN:STANDARD
DTSTART:20231029T020000
RDATE:20240331T030000
TZOFFSETFROM:+0200
TZOFFSETTO:+0100
TZNAME:Europe/Berlin CET
END:STANDARD
BEGIN:STANDARD
DTSTART:20241027T020000
RDATE:20250330T030000
TZOFFSETFROM:+0200
TZOFFSETTO:+0100
TZNAME:Europe/Berlin CET
END:STANDARD
BEGIN:STANDARD
DTSTART:20251026T020000
RDATE:20260329T030000
TZOFFSETFROM:+0200
TZOFFSETTO:+0100
TZNAME:Europe/Berlin CET
END:STANDARD
BEGIN:STANDARD
DTSTART:20261025T020000
RDATE:20270328T030000
TZOFFSETFROM:+0200
TZOFFSETTO:+0100
TZNAME:Europe/Berlin CET
END:STANDARD
BEGIN:STANDARD
DTSTART:20271031T020000
RDATE:20280326T030000
TZOFFSETFROM:+0200
TZOFFSETTO:+0100
TZNAME:Europe/Berlin CET
END:STANDARD
BEGIN:DAYLIGHT
DTSTART:20190809T180000
RDATE:20191027T020000
TZOFFSETFROM:+0100
TZOFFSETTO:+0200
TZNAME:Europe/Berlin CEST
END:DAYLIGHT
BEGIN:DAYLIGHT
DTSTART:20200329T030000
RDATE:20201025T020000
TZOFFSETFROM:+0100
TZOFFSETTO:+0200
TZNAME:Europe/Berlin CEST
END:DAYLIGHT
BEGIN:DAYLIGHT
DTSTART:20210328T030000
RDATE:20211031T020000
TZOFFSETFROM:+0100
TZOFFSETTO:+0200
TZNAME:Europe/Berlin CEST
END:DAYLIGHT
BEGIN:DAYLIGHT
DTSTART:20220327T030000
RDATE:20221030T020000
TZOFFSETFROM:+0100
TZOFFSETTO:+0200
TZNAME:Europe/Berlin CEST
END:DAYLIGHT
BEGIN:DAYLIGHT
DTSTART:20230326T030000
RDATE:20231029T020000
TZOFFSETFROM:+0100
TZOFFSETTO:+0200
TZNAME:Europe/Berlin CEST
END:DAYLIGHT
BEGIN:DAYLIGHT
DTSTART:20240331T030000
RDATE:20241027T020000
TZOFFSETFROM:+0100
TZOFFSETTO:+0200
TZNAME:Europe/Berlin CEST
END:DAYLIGHT
BEGIN:DAYLIGHT
DTSTART:20250330T030000
RDATE:20251026T020000
TZOFFSETFROM:+0100
TZOFFSETTO:+0200
TZNAME:Europe/Berlin CEST
END:DAYLIGHT
BEGIN:DAYLIGHT
DTSTART:20260329T030000
RDATE:20261025T020000
TZOFFSETFROM:+0100
TZOFFSETTO:+0200
TZNAME:Europe/Berlin CEST
END:DAYLIGHT
BEGIN:DAYLIGHT
DTSTART:20270328T030000
RDATE:20271031T020000
TZOFFSETFROM:+0100
TZOFFSETTO:+0200
TZNAME:Europe/Berlin CEST
END:DAYLIGHT
END:VTIMEZONE
BEGIN:VEVENT
UID:0b9c0c80298884e6a7cfa476a3383db5
CATEGORIES:Konzerte
CREATED:20200617T161807
SUMMARY:Marc Masconi - GentleMEN of Music "Kultur on the Beach" Open-Air
LOCATION:Azzurro Beach\, Am Blauen See 119\, 30823 Garbsen
DESCRIPTION:<p>Ein Abend zum schmelzen…in der einen Hand der Cocktail, in der anderen d
 as Mikrofon.</p><p>Dazu interpretiert eine markante Stimme die Songs der Ge
 ntleMEN of Music:<br /><strong>Tom Jones - Frank Sinatra - Tony Christie</s
 trong> u.a.<br />Von "New York, New York" über "She´s a lady "und "Sexbomb"
  bis hin zu "I did what I did for Maria", "The way to Amarillo" und natürli
 ch "My Way"<br />Große Welterfolge gesungen vom Gentleman of Music: Marc Ma
 sconi</p><p>Eine Kombination aus faszinierender Stimme, charismatischer Büh
 nenpräsenz, lockerer Show im Ambiente des Leibniz Theaters.</p><p>Vorhang a
 uf - wir erwarten Sie!<br /><br /></p><p><span style="color: #ff0000;">Dies
 e Veranstaltung findet als Open-Air-Event unter Einhaltung der aktuellen Hy
 gienevorschriften im Azzurro Beach am Blauen See in Garbsen statt. </span><
 br /><br /><span style="color: #ff0000;">Bitte beachten Sie, bei Anreise mi
 t dem Auto fallen Parkgebühren in Höhe von 2€ an. </span><br /><span style=
 "color: #ff0000;">Für den Eintritt zum See fallen 4€ an, die komplett für d
 en Verzehr genutzt werden können</span></p>
X-EXTRAINFO:Einlass: 17:00h\nBeginn: 18h\nEintritt: 25,90 / 21,90 (erm.)\n\n
DTSTAMP:20260426T061453Z
DTSTART;TZID=Europe/Berlin:20200809T180000
DTEND;TZID=Europe/Berlin:20200809T200000
SEQUENCE:0
TRANSP:OPAQUE
END:VEVENT
END:VCALENDAR