BEGIN:VCALENDAR
VERSION:2.0
PRODID:-//jEvents 2.0 for Joomla//EN
CALSCALE:GREGORIAN
METHOD:PUBLISH
BEGIN:VTIMEZONE
TZID:Europe/Berlin
BEGIN:STANDARD
DTSTART:20191027T020000
RDATE:20200329T030000
TZOFFSETFROM:+0200
TZOFFSETTO:+0100
TZNAME:Europe/Berlin CET
END:STANDARD
BEGIN:STANDARD
DTSTART:20201025T020000
RDATE:20210328T030000
TZOFFSETFROM:+0200
TZOFFSETTO:+0100
TZNAME:Europe/Berlin CET
END:STANDARD
BEGIN:STANDARD
DTSTART:20211031T020000
RDATE:20220327T030000
TZOFFSETFROM:+0200
TZOFFSETTO:+0100
TZNAME:Europe/Berlin CET
END:STANDARD
BEGIN:STANDARD
DTSTART:20221030T020000
RDATE:20230326T030000
TZOFFSETFROM:+0200
TZOFFSETTO:+0100
TZNAME:Europe/Berlin CET
END:STANDARD
BEGIN:STANDARD
DTSTART:20231029T020000
RDATE:20240331T030000
TZOFFSETFROM:+0200
TZOFFSETTO:+0100
TZNAME:Europe/Berlin CET
END:STANDARD
BEGIN:STANDARD
DTSTART:20241027T020000
RDATE:20250330T030000
TZOFFSETFROM:+0200
TZOFFSETTO:+0100
TZNAME:Europe/Berlin CET
END:STANDARD
BEGIN:STANDARD
DTSTART:20251026T020000
RDATE:20260329T030000
TZOFFSETFROM:+0200
TZOFFSETTO:+0100
TZNAME:Europe/Berlin CET
END:STANDARD
BEGIN:STANDARD
DTSTART:20261025T020000
RDATE:20270328T030000
TZOFFSETFROM:+0200
TZOFFSETTO:+0100
TZNAME:Europe/Berlin CET
END:STANDARD
BEGIN:STANDARD
DTSTART:20271031T020000
RDATE:20280326T030000
TZOFFSETFROM:+0200
TZOFFSETTO:+0100
TZNAME:Europe/Berlin CET
END:STANDARD
BEGIN:DAYLIGHT
DTSTART:20190816T180000
RDATE:20191027T020000
TZOFFSETFROM:+0100
TZOFFSETTO:+0200
TZNAME:Europe/Berlin CEST
END:DAYLIGHT
BEGIN:DAYLIGHT
DTSTART:20200329T030000
RDATE:20201025T020000
TZOFFSETFROM:+0100
TZOFFSETTO:+0200
TZNAME:Europe/Berlin CEST
END:DAYLIGHT
BEGIN:DAYLIGHT
DTSTART:20210328T030000
RDATE:20211031T020000
TZOFFSETFROM:+0100
TZOFFSETTO:+0200
TZNAME:Europe/Berlin CEST
END:DAYLIGHT
BEGIN:DAYLIGHT
DTSTART:20220327T030000
RDATE:20221030T020000
TZOFFSETFROM:+0100
TZOFFSETTO:+0200
TZNAME:Europe/Berlin CEST
END:DAYLIGHT
BEGIN:DAYLIGHT
DTSTART:20230326T030000
RDATE:20231029T020000
TZOFFSETFROM:+0100
TZOFFSETTO:+0200
TZNAME:Europe/Berlin CEST
END:DAYLIGHT
BEGIN:DAYLIGHT
DTSTART:20240331T030000
RDATE:20241027T020000
TZOFFSETFROM:+0100
TZOFFSETTO:+0200
TZNAME:Europe/Berlin CEST
END:DAYLIGHT
BEGIN:DAYLIGHT
DTSTART:20250330T030000
RDATE:20251026T020000
TZOFFSETFROM:+0100
TZOFFSETTO:+0200
TZNAME:Europe/Berlin CEST
END:DAYLIGHT
BEGIN:DAYLIGHT
DTSTART:20260329T030000
RDATE:20261025T020000
TZOFFSETFROM:+0100
TZOFFSETTO:+0200
TZNAME:Europe/Berlin CEST
END:DAYLIGHT
BEGIN:DAYLIGHT
DTSTART:20270328T030000
RDATE:20271031T020000
TZOFFSETFROM:+0100
TZOFFSETTO:+0200
TZNAME:Europe/Berlin CEST
END:DAYLIGHT
END:VTIMEZONE
BEGIN:VEVENT
UID:1bcecd4d5d6c876b076a5d0521d882ac
CATEGORIES:Theater
CREATED:20200617T163614
SUMMARY:Emmi & Willnowski - Der Wahnsinn geht weiter! "Kultur on the Beach" Open-Air
LOCATION:Azzurro Beach\, Am Blauen See 119\, 30823 Garbsen
DESCRIPTION:Deutschlands Comedy-Duo Nr.1 zündet seit nunmehr 23 Jahren ein einzigartige
 s Feuerwerk der Lachsalven auf dem Schlachtfeld ihrer wahnwitzigen Ehe.\nVe
 rgessen Sie für einen Moment Ihr eigenes kleines Beziehungs-Drama, und tauc
 hen Sie ein in die Welt zweier begnadigter Entertainer, die sich für keinen
  Gag zu schade sind! Willnowsky würde für eine schlechte Pointe sogar seine
  Großmutter verkaufen, wenn denn bekannt wäre, wo ihre Urne vergraben ist.\
 nFreuen Sie sich auf musikalische Edelsteine, die durch Emmis unvergleichli
 che Darbietung zu Pflastersteinen werden, die noch lange auf dem Zwerchfell
  lasten!\nGeniessen Sie Emmi und Willnowsky! Ein Fest für die ganze Familie
  - vorausgesetzt, Opa kriegt nichts mehr mit, und Mami und Papi können ihre
 n Kindern die Witze auch erklären. Music- Comedy at it’s best: Emmi &amp; W
 illnowsky!\nDiese Veranstaltung findet als Open-Air-Event unter Einhaltung 
 der aktuellen Hygienevorschriften im Azzurro Beach am Blauen See in Garbsen
  statt. \n\nBitte beachten Sie, bei Anreise mit dem Auto fallen Parkgebühre
 n in Höhe von 2€ an. \nFür den Eintritt zum See fallen 4€ an, die komplett 
 für den Verzehr genutzt werden können\n
X-ALT-DESC;FMTTYPE=text/html:<blockquote class=""><div class=""><div class=""><div class="">Deutschlands
  Comedy-Duo Nr.1 zündet seit nunmehr 23 Jahren ein einzigartiges Feuerwerk 
 der Lachsalven auf dem Schlachtfeld ihrer wahnwitzigen Ehe.<br />Vergessen 
 Sie für einen Moment Ihr eigenes kleines Beziehungs-Drama, und tauchen Sie 
 ein in die Welt zweier begnadigter Entertainer, die sich für keinen Gag zu 
 schade sind! Willnowsky würde für eine schlechte Pointe sogar seine Großmut
 ter verkaufen, wenn denn bekannt wäre, wo ihre Urne vergraben ist.<br />Fre
 uen Sie sich auf musikalische Edelsteine, die durch Emmis unvergleichliche 
 Darbietung zu Pflastersteinen werden, die noch lange auf dem Zwerchfell las
 ten!<br />Geniessen Sie Emmi und Willnowsky! Ein Fest für die ganze Familie
  - vorausgesetzt, Opa kriegt nichts mehr mit, und Mami und Papi können ihre
 n Kindern die Witze auch erklären. Music- Comedy at it’s best: Emmi &amp; W
 illnowsky!<br /><p><span style="color: #ff0000;">Diese Veranstaltung findet
  als Open-Air-Event unter Einhaltung der aktuellen Hygienevorschriften im A
 zzurro Beach am Blauen See in Garbsen statt. </span><br /><br /><span style
 ="color: #ff0000;">Bitte beachten Sie, bei Anreise mit dem Auto fallen Park
 gebühren in Höhe von 2€ an. </span><br /><span style="color: #ff0000;">Für 
 den Eintritt zum See fallen 4€ an, die komplett für den Verzehr genutzt wer
 den können</span></p></div></div></div></blockquote>
X-EXTRAINFO:Einlass: 17:00h\nBeginn: 18h\nEintritt: 28,90 €, 24,90 €
DTSTAMP:20260426T061445Z
DTSTART;TZID=Europe/Berlin:20200816T180000
SEQUENCE:0
TRANSP:OPAQUE
END:VEVENT
END:VCALENDAR