BEGIN:VCALENDAR
VERSION:2.0
PRODID:-//jEvents 2.0 for Joomla//EN
CALSCALE:GREGORIAN
METHOD:PUBLISH
BEGIN:VTIMEZONE
TZID:Europe/Berlin
BEGIN:STANDARD
DTSTART:20191027T020000
RDATE:20200329T030000
TZOFFSETFROM:+0200
TZOFFSETTO:+0100
TZNAME:Europe/Berlin CET
END:STANDARD
BEGIN:STANDARD
DTSTART:20201025T020000
RDATE:20210328T030000
TZOFFSETFROM:+0200
TZOFFSETTO:+0100
TZNAME:Europe/Berlin CET
END:STANDARD
BEGIN:STANDARD
DTSTART:20211031T020000
RDATE:20220327T030000
TZOFFSETFROM:+0200
TZOFFSETTO:+0100
TZNAME:Europe/Berlin CET
END:STANDARD
BEGIN:STANDARD
DTSTART:20221030T020000
RDATE:20230326T030000
TZOFFSETFROM:+0200
TZOFFSETTO:+0100
TZNAME:Europe/Berlin CET
END:STANDARD
BEGIN:STANDARD
DTSTART:20231029T020000
RDATE:20240331T030000
TZOFFSETFROM:+0200
TZOFFSETTO:+0100
TZNAME:Europe/Berlin CET
END:STANDARD
BEGIN:STANDARD
DTSTART:20241027T020000
RDATE:20250330T030000
TZOFFSETFROM:+0200
TZOFFSETTO:+0100
TZNAME:Europe/Berlin CET
END:STANDARD
BEGIN:STANDARD
DTSTART:20251026T020000
RDATE:20260329T030000
TZOFFSETFROM:+0200
TZOFFSETTO:+0100
TZNAME:Europe/Berlin CET
END:STANDARD
BEGIN:STANDARD
DTSTART:20261025T020000
RDATE:20270328T030000
TZOFFSETFROM:+0200
TZOFFSETTO:+0100
TZNAME:Europe/Berlin CET
END:STANDARD
BEGIN:STANDARD
DTSTART:20271031T020000
RDATE:20280326T030000
TZOFFSETFROM:+0200
TZOFFSETTO:+0100
TZNAME:Europe/Berlin CET
END:STANDARD
BEGIN:DAYLIGHT
DTSTART:20190819T180000
RDATE:20191027T020000
TZOFFSETFROM:+0100
TZOFFSETTO:+0200
TZNAME:Europe/Berlin CEST
END:DAYLIGHT
BEGIN:DAYLIGHT
DTSTART:20200329T030000
RDATE:20201025T020000
TZOFFSETFROM:+0100
TZOFFSETTO:+0200
TZNAME:Europe/Berlin CEST
END:DAYLIGHT
BEGIN:DAYLIGHT
DTSTART:20210328T030000
RDATE:20211031T020000
TZOFFSETFROM:+0100
TZOFFSETTO:+0200
TZNAME:Europe/Berlin CEST
END:DAYLIGHT
BEGIN:DAYLIGHT
DTSTART:20220327T030000
RDATE:20221030T020000
TZOFFSETFROM:+0100
TZOFFSETTO:+0200
TZNAME:Europe/Berlin CEST
END:DAYLIGHT
BEGIN:DAYLIGHT
DTSTART:20230326T030000
RDATE:20231029T020000
TZOFFSETFROM:+0100
TZOFFSETTO:+0200
TZNAME:Europe/Berlin CEST
END:DAYLIGHT
BEGIN:DAYLIGHT
DTSTART:20240331T030000
RDATE:20241027T020000
TZOFFSETFROM:+0100
TZOFFSETTO:+0200
TZNAME:Europe/Berlin CEST
END:DAYLIGHT
BEGIN:DAYLIGHT
DTSTART:20250330T030000
RDATE:20251026T020000
TZOFFSETFROM:+0100
TZOFFSETTO:+0200
TZNAME:Europe/Berlin CEST
END:DAYLIGHT
BEGIN:DAYLIGHT
DTSTART:20260329T030000
RDATE:20261025T020000
TZOFFSETFROM:+0100
TZOFFSETTO:+0200
TZNAME:Europe/Berlin CEST
END:DAYLIGHT
BEGIN:DAYLIGHT
DTSTART:20270328T030000
RDATE:20271031T020000
TZOFFSETFROM:+0100
TZOFFSETTO:+0200
TZNAME:Europe/Berlin CEST
END:DAYLIGHT
END:VTIMEZONE
BEGIN:VEVENT
UID:52d9f4a24fa2302d15c539ef8c6af608
CATEGORIES:Mixshow
CREATED:20200617T164208
SUMMARY:Learning to Fly + Tinatin "Leibniz goes cavallo"
LOCATION:cavallo königliche Reithalle
DESCRIPTION:Learning to Fly \nKünstler wie Bob Dylan, Tom Waits, Bruce Springsteen, Pau
 l Simon und Tom Petty sind Rockpoeten. Mit Ihren Songs haben sie Musikgesch
 ichte geschrieben und ihre Werke haben Generationen von Singer/Songwritern 
 den Blueprint zu eigenen Erfolgen gegeben. \n\nMit ihrem Programm „Storytel
 lers“ schaffen Martin Hauke und Juan Schmid einen aufrichtigen Tribut an di
 ese außergewöhnlichen Songschreiber. Teils in eigenen Arrangements, doch im
 mer nah am Original, spielen und erzählen die 2 Musiker vom Schaffen dieser
  und anderer Weltkünstler, deren Leben und der Story hinter dem Song. \n\nH
 ört man den beiden zu, spürt man ihre Liebe zu dieser Musik. Mal sanft und 
 spärlich dosiert, mal mit großer Kraft, setzen sie gekonnt ihre Gitarren un
 d Stimmen ein. Dabei spielen sie jedoch immer respektvoll hinter dem Song. 
 So erwartet den Zuschauer ihrer Konzerte, ein unplugged Programm vorgetrage
 n mit Charme, Spielfreude und großer Leidenschaft. \n\nMartin Hauke ist Git
 arrist und Gründungsmitglied der Braunschweiger Rolling Stones Tribute Band
  „VOODOO LOUNGE“ und Juan Schmid kennt man als Sänger der Hannoverschen Sou
 lformation „ SOULVIERTEL“   Diese Veranstaltung findet als Open-Air-Event u
 nter Einhaltung der aktuellen Hygienevorschriften im Biergarten im "cavallo
  königliche Reithalle" statt. Bei schlechtem Wetter wird die Veranstaltung 
 im Indoor verlegt.\n
X-ALT-DESC;FMTTYPE=text/html:<div class="page" title="Page 1">Learning to Fly <br />Künstler wie Bob Dyl
 an, Tom Waits, Bruce Springsteen, Paul Simon und Tom Petty sind Rockpoeten.
  Mit Ihren Songs haben sie Musikgeschichte geschrieben und ihre Werke haben
  Generationen von Singer/Songwritern den Blueprint zu eigenen Erfolgen gege
 ben. <br /><br />Mit ihrem Programm „Storytellers“ schaffen Martin Hauke un
 d Juan Schmid einen aufrichtigen Tribut an diese außergewöhnlichen Songschr
 eiber. Teils in eigenen Arrangements, doch immer nah am Original, spielen u
 nd erzählen die 2 Musiker vom Schaffen dieser und anderer Weltkünstler, der
 en Leben und der Story hinter dem Song. <br /><br />Hört man den beiden zu,
  spürt man ihre Liebe zu dieser Musik. Mal sanft und spärlich dosiert, mal 
 mit großer Kraft, setzen sie gekonnt ihre Gitarren und Stimmen ein. Dabei s
 pielen sie jedoch immer respektvoll hinter dem Song. So erwartet den Zuscha
 uer ihrer Konzerte, ein unplugged Programm vorgetragen mit Charme, Spielfre
 ude und großer Leidenschaft. <br /><br />Martin Hauke ist Gitarrist und Grü
 ndungsmitglied der Braunschweiger Rolling Stones Tribute Band „VOODOO LOUNG
 E“ und Juan Schmid kennt man als Sänger der Hannoverschen Soulformation „ S
 OULVIERTEL“ <div class="layoutArea"> </div><div class="layoutArea"> <p><spa
 n style="color: #ff0000;">Diese Veranstaltung findet als Open-Air-Event unt
 er Einhaltung der aktuellen Hygienevorschriften im Biergarten im "cavallo k
 önigliche Reithalle" statt. Bei schlechtem Wetter wird die Veranstaltung im
  Indoor verlegt.</span></p></div></div>
X-EXTRAINFO:Einlass: 17:00h\nBeginn: 18:00h\nEintritt: 21,90 / 17,90 (erm.)\n\n
DTSTAMP:20260426T061330Z
DTSTART;TZID=Europe/Berlin:20200819T180000
SEQUENCE:0
TRANSP:OPAQUE
END:VEVENT
END:VCALENDAR