BEGIN:VCALENDAR
VERSION:2.0
PRODID:-//jEvents 2.0 for Joomla//EN
CALSCALE:GREGORIAN
METHOD:PUBLISH
BEGIN:VTIMEZONE
TZID:Europe/Berlin
BEGIN:STANDARD
DTSTART:20191027T020000
RDATE:20200329T030000
TZOFFSETFROM:+0200
TZOFFSETTO:+0100
TZNAME:Europe/Berlin CET
END:STANDARD
BEGIN:STANDARD
DTSTART:20201025T020000
RDATE:20210328T030000
TZOFFSETFROM:+0200
TZOFFSETTO:+0100
TZNAME:Europe/Berlin CET
END:STANDARD
BEGIN:STANDARD
DTSTART:20211031T020000
RDATE:20220327T030000
TZOFFSETFROM:+0200
TZOFFSETTO:+0100
TZNAME:Europe/Berlin CET
END:STANDARD
BEGIN:STANDARD
DTSTART:20221030T020000
RDATE:20230326T030000
TZOFFSETFROM:+0200
TZOFFSETTO:+0100
TZNAME:Europe/Berlin CET
END:STANDARD
BEGIN:STANDARD
DTSTART:20231029T020000
RDATE:20240331T030000
TZOFFSETFROM:+0200
TZOFFSETTO:+0100
TZNAME:Europe/Berlin CET
END:STANDARD
BEGIN:STANDARD
DTSTART:20241027T020000
RDATE:20250330T030000
TZOFFSETFROM:+0200
TZOFFSETTO:+0100
TZNAME:Europe/Berlin CET
END:STANDARD
BEGIN:STANDARD
DTSTART:20251026T020000
RDATE:20260329T030000
TZOFFSETFROM:+0200
TZOFFSETTO:+0100
TZNAME:Europe/Berlin CET
END:STANDARD
BEGIN:STANDARD
DTSTART:20261025T020000
RDATE:20270328T030000
TZOFFSETFROM:+0200
TZOFFSETTO:+0100
TZNAME:Europe/Berlin CET
END:STANDARD
BEGIN:STANDARD
DTSTART:20271031T020000
RDATE:20280326T030000
TZOFFSETFROM:+0200
TZOFFSETTO:+0100
TZNAME:Europe/Berlin CET
END:STANDARD
BEGIN:DAYLIGHT
DTSTART:20190812T190000
RDATE:20191027T020000
TZOFFSETFROM:+0100
TZOFFSETTO:+0200
TZNAME:Europe/Berlin CEST
END:DAYLIGHT
BEGIN:DAYLIGHT
DTSTART:20200329T030000
RDATE:20201025T020000
TZOFFSETFROM:+0100
TZOFFSETTO:+0200
TZNAME:Europe/Berlin CEST
END:DAYLIGHT
BEGIN:DAYLIGHT
DTSTART:20210328T030000
RDATE:20211031T020000
TZOFFSETFROM:+0100
TZOFFSETTO:+0200
TZNAME:Europe/Berlin CEST
END:DAYLIGHT
BEGIN:DAYLIGHT
DTSTART:20220327T030000
RDATE:20221030T020000
TZOFFSETFROM:+0100
TZOFFSETTO:+0200
TZNAME:Europe/Berlin CEST
END:DAYLIGHT
BEGIN:DAYLIGHT
DTSTART:20230326T030000
RDATE:20231029T020000
TZOFFSETFROM:+0100
TZOFFSETTO:+0200
TZNAME:Europe/Berlin CEST
END:DAYLIGHT
BEGIN:DAYLIGHT
DTSTART:20240331T030000
RDATE:20241027T020000
TZOFFSETFROM:+0100
TZOFFSETTO:+0200
TZNAME:Europe/Berlin CEST
END:DAYLIGHT
BEGIN:DAYLIGHT
DTSTART:20250330T030000
RDATE:20251026T020000
TZOFFSETFROM:+0100
TZOFFSETTO:+0200
TZNAME:Europe/Berlin CEST
END:DAYLIGHT
BEGIN:DAYLIGHT
DTSTART:20260329T030000
RDATE:20261025T020000
TZOFFSETFROM:+0100
TZOFFSETTO:+0200
TZNAME:Europe/Berlin CEST
END:DAYLIGHT
BEGIN:DAYLIGHT
DTSTART:20270328T030000
RDATE:20271031T020000
TZOFFSETFROM:+0100
TZOFFSETTO:+0200
TZNAME:Europe/Berlin CEST
END:DAYLIGHT
END:VTIMEZONE
BEGIN:VEVENT
UID:a3b07e95b5923ccfc72a4746821ca242
CATEGORIES:Comedy
CREATED:20200617T165340
SUMMARY:Thorsten Bär - Der Bär ist los! "Kultur on the Beach" Open-Air
LOCATION:Azzurro Beach\, Am Blauen See 119\, 30823 Garbsen
DESCRIPTION:Der Sieg beim RTL-Comedy-Grand-Prix 2018 war nur der Startschuß für ein tur
 bulentes Jahr der Superlativen in Thorsten Bärs Karriere,\nin denen der Wah
 lhamburger mit seinem Stand Up Programm 2019 43 Shows spielte und gemeinsam
  u.a. mit Dieter Hallervorden, Mike Krüger und Hape Kerkeling auf der Bühne
  stand. Aber auch neben der Stand-Up-Arbeit ist Thorsten Bär ein absolutes 
 Multitalent: Parodie, Außenreportage, Moderation oder eben Stand-Up – es gi
 bt kaum\neine humorvolle Disziplin, die der gebürtige Hesse nicht aus dem F
 F beherrscht.\n\nNach seinem ersten Bühnenprogramm „Vadder Unser“ tourt Tho
 rsten Bär nun mit seinem zweiten abendfüllendem Programm durch Deutschland:
  2019 heißt es „Der Bär ist los!“\n  Diese Veranstaltung findet als Open-Ai
 r-Event unter Einhaltung der aktuellen Hygienevorschriften im Azzurro Beach
  am Blauen See in Garbsen statt. \n\nBitte beachten Sie, bei Anreise mit de
 m Auto fallen Parkgebühren in Höhe von 2€ an. \nFür den Eintritt zum See fa
 llen 4€ an, die komplett für den Verzehr genutzt werden können\n
X-ALT-DESC;FMTTYPE=text/html:<div class="page" title="Page 1">Der Sieg beim RTL-Comedy-Grand-Prix 2018 w
 ar nur der Startschuß für ein turbulentes Jahr der Superlativen in Thorsten
  Bärs Karriere,<br />in denen der Wahlhamburger mit seinem Stand Up Program
 m 2019 43 Shows spielte und gemeinsam u.a. mit Dieter Hallervorden, Mike Kr
 üger und Hape Kerkeling auf der Bühne stand. Aber auch neben der Stand-Up-A
 rbeit ist Thorsten Bär ein absolutes Multitalent: Parodie, Außenreportage, 
 Moderation oder eben Stand-Up – es gibt kaum<br />eine humorvolle Disziplin
 , die der gebürtige Hesse nicht aus dem FF beherrscht.<br /><br />Nach sein
 em ersten Bühnenprogramm „Vadder Unser“ tourt Thorsten Bär nun mit seinem z
 weiten abendfüllendem Programm durch Deutschland: 2019 heißt es „Der Bär is
 t los!“<br /><div class="layoutArea"> </div><div class="layoutArea"> <p><sp
 an style="color: #ff0000;">Diese Veranstaltung findet als Open-Air-Event un
 ter Einhaltung der aktuellen Hygienevorschriften im Azzurro Beach am Blauen
  See in Garbsen statt. </span><br /><br /><span style="color: #ff0000;">Bit
 te beachten Sie, bei Anreise mit dem Auto fallen Parkgebühren in Höhe von 2
 € an. </span><br /><span style="color: #ff0000;">Für den Eintritt zum See f
 allen 4€ an, die komplett für den Verzehr genutzt werden können</span></p><
 /div></div>
X-EXTRAINFO:Einlass: 18:00h\nBeginn: 19h\nEintritt: 25,90 / 21,90 (erm.)\n\n
DTSTAMP:20260426T061445Z
DTSTART;TZID=Europe/Berlin:20200812T190000
SEQUENCE:0
TRANSP:OPAQUE
END:VEVENT
END:VCALENDAR