BEGIN:VCALENDAR
VERSION:2.0
PRODID:-//jEvents 2.0 for Joomla//EN
CALSCALE:GREGORIAN
METHOD:PUBLISH
BEGIN:VTIMEZONE
TZID:Europe/Berlin
BEGIN:STANDARD
DTSTART:20191027T020000
RDATE:20200329T030000
TZOFFSETFROM:+0200
TZOFFSETTO:+0100
TZNAME:Europe/Berlin CET
END:STANDARD
BEGIN:STANDARD
DTSTART:20201025T020000
RDATE:20210328T030000
TZOFFSETFROM:+0200
TZOFFSETTO:+0100
TZNAME:Europe/Berlin CET
END:STANDARD
BEGIN:STANDARD
DTSTART:20211031T020000
RDATE:20220327T030000
TZOFFSETFROM:+0200
TZOFFSETTO:+0100
TZNAME:Europe/Berlin CET
END:STANDARD
BEGIN:STANDARD
DTSTART:20221030T020000
RDATE:20230326T030000
TZOFFSETFROM:+0200
TZOFFSETTO:+0100
TZNAME:Europe/Berlin CET
END:STANDARD
BEGIN:STANDARD
DTSTART:20231029T020000
RDATE:20240331T030000
TZOFFSETFROM:+0200
TZOFFSETTO:+0100
TZNAME:Europe/Berlin CET
END:STANDARD
BEGIN:STANDARD
DTSTART:20241027T020000
RDATE:20250330T030000
TZOFFSETFROM:+0200
TZOFFSETTO:+0100
TZNAME:Europe/Berlin CET
END:STANDARD
BEGIN:STANDARD
DTSTART:20251026T020000
RDATE:20260329T030000
TZOFFSETFROM:+0200
TZOFFSETTO:+0100
TZNAME:Europe/Berlin CET
END:STANDARD
BEGIN:STANDARD
DTSTART:20261025T020000
RDATE:20270328T030000
TZOFFSETFROM:+0200
TZOFFSETTO:+0100
TZNAME:Europe/Berlin CET
END:STANDARD
BEGIN:STANDARD
DTSTART:20271031T020000
RDATE:20280326T030000
TZOFFSETFROM:+0200
TZOFFSETTO:+0100
TZNAME:Europe/Berlin CET
END:STANDARD
BEGIN:DAYLIGHT
DTSTART:20190823T180000
RDATE:20191027T020000
TZOFFSETFROM:+0100
TZOFFSETTO:+0200
TZNAME:Europe/Berlin CEST
END:DAYLIGHT
BEGIN:DAYLIGHT
DTSTART:20200329T030000
RDATE:20201025T020000
TZOFFSETFROM:+0100
TZOFFSETTO:+0200
TZNAME:Europe/Berlin CEST
END:DAYLIGHT
BEGIN:DAYLIGHT
DTSTART:20210328T030000
RDATE:20211031T020000
TZOFFSETFROM:+0100
TZOFFSETTO:+0200
TZNAME:Europe/Berlin CEST
END:DAYLIGHT
BEGIN:DAYLIGHT
DTSTART:20220327T030000
RDATE:20221030T020000
TZOFFSETFROM:+0100
TZOFFSETTO:+0200
TZNAME:Europe/Berlin CEST
END:DAYLIGHT
BEGIN:DAYLIGHT
DTSTART:20230326T030000
RDATE:20231029T020000
TZOFFSETFROM:+0100
TZOFFSETTO:+0200
TZNAME:Europe/Berlin CEST
END:DAYLIGHT
BEGIN:DAYLIGHT
DTSTART:20240331T030000
RDATE:20241027T020000
TZOFFSETFROM:+0100
TZOFFSETTO:+0200
TZNAME:Europe/Berlin CEST
END:DAYLIGHT
BEGIN:DAYLIGHT
DTSTART:20250330T030000
RDATE:20251026T020000
TZOFFSETFROM:+0100
TZOFFSETTO:+0200
TZNAME:Europe/Berlin CEST
END:DAYLIGHT
BEGIN:DAYLIGHT
DTSTART:20260329T030000
RDATE:20261025T020000
TZOFFSETFROM:+0100
TZOFFSETTO:+0200
TZNAME:Europe/Berlin CEST
END:DAYLIGHT
BEGIN:DAYLIGHT
DTSTART:20270328T030000
RDATE:20271031T020000
TZOFFSETFROM:+0100
TZOFFSETTO:+0200
TZNAME:Europe/Berlin CEST
END:DAYLIGHT
END:VTIMEZONE
BEGIN:VEVENT
UID:e0cd23a14e14dffa38e8f344ab3d3c12
CATEGORIES:Konzerte, Erzählbühne & Lesung
CREATED:20200618T143339
SUMMARY:Cyril Krüger & Tobias Kunze - Pop meets Poetry und Band "Kultur on the Beach" Open-Air
LOCATION:Azzurro Beach\, Am Blauen See 119\, 30823 Garbsen
DESCRIPTION:<p>"Pop meets Poetry" heißt das neue Projekt des Frontsängers der Jetlags C
 yril Krüger und Hannovers Poetry Slam- Tausendsassa Tobias Kunze. Ein Progr
 amm zum Mitraten, zum Schwelgen, mit Aha-Effekt und Hintergrundwissen. Poes
 ie trifft Melodie, Worte und Klang auf Songs mit Seele, Pop (und Rock!) auf
  Poetry.<br /><br />Zwei der am häufigsten in ihren jeweiligen Sujets auf B
 ühnen stehenden Entertainer Hannovers haben sich zusammengetan, um ein Prog
 ramm auszuhecken. Songwriting ist Musik und Literatur, Pop und Poetry in ei
 nem. Kunze und Krüger singen, analysieren und berichten eine exquisite Ausw
 ahl der Musikgeschichte und widmen ihren Abend, den ihnen ausgesuchten Song
 s als Hommage, als Denkmal!<br /><br /><span style="color: #ff0000;">Diese 
 Veranstaltung findet als Open-Air-Event unter Einhaltung der aktuellen Hygi
 enevorschriften im Azzurro Beach am Blauen See in Garbsen statt. </span><br
  /><br /><span style="color: #ff0000;">Bitte beachten Sie, bei Anreise mit 
 dem Auto fallen Parkgebühren in Höhe von 2€ an. </span><br /><span style="c
 olor: #ff0000;">Für den Eintritt zum See fallen 4€ an, die komplett für den
  Verzehr genutzt werden können.</span></p>
X-EXTRAINFO:Einlass: 17:00h\nBeginn: 18h\nEintritt: 25,90€ / Ermäßigt: 21,90€
DTSTAMP:20260426T061452Z
DTSTART;TZID=Europe/Berlin:20200823T180000
SEQUENCE:0
TRANSP:OPAQUE
END:VEVENT
END:VCALENDAR