BEGIN:VCALENDAR
VERSION:2.0
PRODID:-//jEvents 2.0 for Joomla//EN
CALSCALE:GREGORIAN
METHOD:PUBLISH
BEGIN:VTIMEZONE
TZID:Europe/Berlin
BEGIN:STANDARD
DTSTART:20191027T020000
RDATE:20200329T030000
TZOFFSETFROM:+0200
TZOFFSETTO:+0100
TZNAME:Europe/Berlin CET
END:STANDARD
BEGIN:STANDARD
DTSTART:20201025T020000
RDATE:20210328T030000
TZOFFSETFROM:+0200
TZOFFSETTO:+0100
TZNAME:Europe/Berlin CET
END:STANDARD
BEGIN:STANDARD
DTSTART:20211031T020000
RDATE:20220327T030000
TZOFFSETFROM:+0200
TZOFFSETTO:+0100
TZNAME:Europe/Berlin CET
END:STANDARD
BEGIN:STANDARD
DTSTART:20221030T020000
RDATE:20230326T030000
TZOFFSETFROM:+0200
TZOFFSETTO:+0100
TZNAME:Europe/Berlin CET
END:STANDARD
BEGIN:STANDARD
DTSTART:20231029T020000
RDATE:20240331T030000
TZOFFSETFROM:+0200
TZOFFSETTO:+0100
TZNAME:Europe/Berlin CET
END:STANDARD
BEGIN:STANDARD
DTSTART:20241027T020000
RDATE:20250330T030000
TZOFFSETFROM:+0200
TZOFFSETTO:+0100
TZNAME:Europe/Berlin CET
END:STANDARD
BEGIN:STANDARD
DTSTART:20251026T020000
RDATE:20260329T030000
TZOFFSETFROM:+0200
TZOFFSETTO:+0100
TZNAME:Europe/Berlin CET
END:STANDARD
BEGIN:STANDARD
DTSTART:20261025T020000
RDATE:20270328T030000
TZOFFSETFROM:+0200
TZOFFSETTO:+0100
TZNAME:Europe/Berlin CET
END:STANDARD
BEGIN:STANDARD
DTSTART:20271031T020000
RDATE:20280326T030000
TZOFFSETFROM:+0200
TZOFFSETTO:+0100
TZNAME:Europe/Berlin CET
END:STANDARD
BEGIN:DAYLIGHT
DTSTART:20190826T190000
RDATE:20191027T020000
TZOFFSETFROM:+0100
TZOFFSETTO:+0200
TZNAME:Europe/Berlin CEST
END:DAYLIGHT
BEGIN:DAYLIGHT
DTSTART:20200329T030000
RDATE:20201025T020000
TZOFFSETFROM:+0100
TZOFFSETTO:+0200
TZNAME:Europe/Berlin CEST
END:DAYLIGHT
BEGIN:DAYLIGHT
DTSTART:20210328T030000
RDATE:20211031T020000
TZOFFSETFROM:+0100
TZOFFSETTO:+0200
TZNAME:Europe/Berlin CEST
END:DAYLIGHT
BEGIN:DAYLIGHT
DTSTART:20220327T030000
RDATE:20221030T020000
TZOFFSETFROM:+0100
TZOFFSETTO:+0200
TZNAME:Europe/Berlin CEST
END:DAYLIGHT
BEGIN:DAYLIGHT
DTSTART:20230326T030000
RDATE:20231029T020000
TZOFFSETFROM:+0100
TZOFFSETTO:+0200
TZNAME:Europe/Berlin CEST
END:DAYLIGHT
BEGIN:DAYLIGHT
DTSTART:20240331T030000
RDATE:20241027T020000
TZOFFSETFROM:+0100
TZOFFSETTO:+0200
TZNAME:Europe/Berlin CEST
END:DAYLIGHT
BEGIN:DAYLIGHT
DTSTART:20250330T030000
RDATE:20251026T020000
TZOFFSETFROM:+0100
TZOFFSETTO:+0200
TZNAME:Europe/Berlin CEST
END:DAYLIGHT
BEGIN:DAYLIGHT
DTSTART:20260329T030000
RDATE:20261025T020000
TZOFFSETFROM:+0100
TZOFFSETTO:+0200
TZNAME:Europe/Berlin CEST
END:DAYLIGHT
BEGIN:DAYLIGHT
DTSTART:20270328T030000
RDATE:20271031T020000
TZOFFSETFROM:+0100
TZOFFSETTO:+0200
TZNAME:Europe/Berlin CEST
END:DAYLIGHT
END:VTIMEZONE
BEGIN:VEVENT
UID:2a9483da9e5705c09ff1082839fb8bb4
CATEGORIES:Konzerte, Erzählbühne & Lesung
CREATED:20200618T144722
SUMMARY:Leibniz Theater Spezial Best of... "Kultur on the Beach" Open-Air
LOCATION:Cavallo\, Dragonerstr. 34\, 30163 Hannover
DESCRIPTION:Freuen Sie sich auf einen tollen Abend mit den besten Künstler aus dem Leib
 niz Theater!\nEin bunter Mix...mit dabei sind Jana Luna, Jango Erhardo, Pet
 e the Beat, Hausmeister Heinrich Bloch, Die Männerherzen und noch weitere t
 olle Künstler.\nEs erwartet Sie eine große Premiere. Lassen Sie sich überra
 schen!\n \nDiese Veranstaltung findet NICHT wie geplant als Open-Air-Event 
 im Azzurro Beach am Blauen See in Garbsen statt, sondern im Cavallo, Dragon
 erstr. 34 in Hannover.\n \n \n
X-ALT-DESC;FMTTYPE=text/html:<p>Freuen Sie sich auf einen tollen Abend mit den besten Künstler aus dem L
 eibniz Theater!</p><p>Ein bunter Mix...mit dabei sind Jana Luna, Jango Erha
 rdo, Pete the Beat, Hausmeister Heinrich Bloch, Die Männerherzen und noch w
 eitere tolle Künstler.</p><p>Es erwartet Sie eine große Premiere. Lassen Si
 e sich überraschen!</p><p> </p><p><span style="color: #ff0000;">Diese Veran
 staltung findet NICHT wie geplant als Open-Air-Event im Azzurro Beach am Bl
 auen See in Garbsen statt, sondern im Cavallo, Dragonerstr. 34 in Hannover.
 </span></p><p> </p><p> </p>
X-EXTRAINFO:Einlass: 18:00h\nBeginn: 19h\nEintritt: 25,90€ / Ermäßigt: 21,90€
DTSTAMP:20260426T061333Z
DTSTART;TZID=Europe/Berlin:20200826T190000
SEQUENCE:0
TRANSP:OPAQUE
END:VEVENT
END:VCALENDAR