BEGIN:VCALENDAR
VERSION:2.0
PRODID:-//jEvents 2.0 for Joomla//EN
CALSCALE:GREGORIAN
METHOD:PUBLISH
BEGIN:VTIMEZONE
TZID:Europe/Berlin
BEGIN:STANDARD
DTSTART:20191027T020000
RDATE:20200329T030000
TZOFFSETFROM:+0200
TZOFFSETTO:+0100
TZNAME:Europe/Berlin CET
END:STANDARD
BEGIN:STANDARD
DTSTART:20201025T020000
RDATE:20210328T030000
TZOFFSETFROM:+0200
TZOFFSETTO:+0100
TZNAME:Europe/Berlin CET
END:STANDARD
BEGIN:STANDARD
DTSTART:20211031T020000
RDATE:20220327T030000
TZOFFSETFROM:+0200
TZOFFSETTO:+0100
TZNAME:Europe/Berlin CET
END:STANDARD
BEGIN:STANDARD
DTSTART:20221030T020000
RDATE:20230326T030000
TZOFFSETFROM:+0200
TZOFFSETTO:+0100
TZNAME:Europe/Berlin CET
END:STANDARD
BEGIN:STANDARD
DTSTART:20231029T020000
RDATE:20240331T030000
TZOFFSETFROM:+0200
TZOFFSETTO:+0100
TZNAME:Europe/Berlin CET
END:STANDARD
BEGIN:STANDARD
DTSTART:20241027T020000
RDATE:20250330T030000
TZOFFSETFROM:+0200
TZOFFSETTO:+0100
TZNAME:Europe/Berlin CET
END:STANDARD
BEGIN:STANDARD
DTSTART:20251026T020000
RDATE:20260329T030000
TZOFFSETFROM:+0200
TZOFFSETTO:+0100
TZNAME:Europe/Berlin CET
END:STANDARD
BEGIN:STANDARD
DTSTART:20261025T020000
RDATE:20270328T030000
TZOFFSETFROM:+0200
TZOFFSETTO:+0100
TZNAME:Europe/Berlin CET
END:STANDARD
BEGIN:STANDARD
DTSTART:20271031T020000
RDATE:20280326T030000
TZOFFSETFROM:+0200
TZOFFSETTO:+0100
TZNAME:Europe/Berlin CET
END:STANDARD
BEGIN:DAYLIGHT
DTSTART:20190831T190000
RDATE:20191027T020000
TZOFFSETFROM:+0100
TZOFFSETTO:+0200
TZNAME:Europe/Berlin CEST
END:DAYLIGHT
BEGIN:DAYLIGHT
DTSTART:20200329T030000
RDATE:20201025T020000
TZOFFSETFROM:+0100
TZOFFSETTO:+0200
TZNAME:Europe/Berlin CEST
END:DAYLIGHT
BEGIN:DAYLIGHT
DTSTART:20210328T030000
RDATE:20211031T020000
TZOFFSETFROM:+0100
TZOFFSETTO:+0200
TZNAME:Europe/Berlin CEST
END:DAYLIGHT
BEGIN:DAYLIGHT
DTSTART:20220327T030000
RDATE:20221030T020000
TZOFFSETFROM:+0100
TZOFFSETTO:+0200
TZNAME:Europe/Berlin CEST
END:DAYLIGHT
BEGIN:DAYLIGHT
DTSTART:20230326T030000
RDATE:20231029T020000
TZOFFSETFROM:+0100
TZOFFSETTO:+0200
TZNAME:Europe/Berlin CEST
END:DAYLIGHT
BEGIN:DAYLIGHT
DTSTART:20240331T030000
RDATE:20241027T020000
TZOFFSETFROM:+0100
TZOFFSETTO:+0200
TZNAME:Europe/Berlin CEST
END:DAYLIGHT
BEGIN:DAYLIGHT
DTSTART:20250330T030000
RDATE:20251026T020000
TZOFFSETFROM:+0100
TZOFFSETTO:+0200
TZNAME:Europe/Berlin CEST
END:DAYLIGHT
BEGIN:DAYLIGHT
DTSTART:20260329T030000
RDATE:20261025T020000
TZOFFSETFROM:+0100
TZOFFSETTO:+0200
TZNAME:Europe/Berlin CEST
END:DAYLIGHT
BEGIN:DAYLIGHT
DTSTART:20270328T030000
RDATE:20271031T020000
TZOFFSETFROM:+0100
TZOFFSETTO:+0200
TZNAME:Europe/Berlin CEST
END:DAYLIGHT
END:VTIMEZONE
BEGIN:VEVENT
UID:86f2f571588798711f5cab7c90c6c229
CATEGORIES:Comedy, Kabarett
CREATED:20200626T172044
SUMMARY:Janssen & Grimm "Ping!" "Leibniz goes cavallo"
LOCATION:cavallo königliche Reithalle
DESCRIPTION:Zwei knasternde Schwadroneure, weidlich fatigant und derohalben nur halbsch
 lächtig schnurrig?  \nHanebüchener Kokolores!  \nDie beiden hannoverschen K
 olumnisten und Satiriker Uwe Janssen und Imre Grimm holen in ihrem sechsten
  Programm „PING!“ ein paar schöne, alte Wörter aus der Kiste und treiben na
 ch alter Väter Sitte Schindluder mit dem Typenrad, dem Farbband und dem Zei
 tgeist: honett, bumsfidel und schlankerhand bonfortionös.\n\n\nPING! Das st
 eht für „Perfekt inszeniertes Nonsensgefasel“ oder „Poesie in neuem Gewand“
 . Papier ist nicht geduldig?\nPING! Erleben Sie die einäugigen Zwillinge de
 r norddeutschen Sitzcomedy mit Friesematenten und Grimmatik ohne Schischi. 
 Ein furioser Mix in Wort, Bild und Ton.  \n\nHeidewitzka! Das wird ein Joku
 s!   Diese Veranstaltung findet als "Indoor" Event im cavallo königliche Re
 ithalle statt. 
X-ALT-DESC;FMTTYPE=text/html:<div class="page" title="Page 1">Zwei knasternde Schwadroneure, weidlich fa
 tigant und derohalben nur halbschlächtig schnurrig?  <br />Hanebüchener Kok
 olores!  <br />Die beiden hannoverschen Kolumnisten und Satiriker Uwe Janss
 en und Imre Grimm holen in ihrem sechsten Programm „PING!“ ein paar schöne,
  alte Wörter aus der Kiste und treiben nach alter Väter Sitte Schindluder m
 it dem Typenrad, dem Farbband und dem Zeitgeist: honett, bumsfidel und schl
 ankerhand bonfortionös.<br /><br /><br />PING! Das steht für „Perfekt insze
 niertes Nonsensgefasel“ oder „Poesie in neuem Gewand“. Papier ist nicht ged
 uldig?<br />PING! Erleben Sie die einäugigen Zwillinge der norddeutschen Si
 tzcomedy mit Friesematenten und Grimmatik ohne Schischi. Ein furioser Mix i
 n Wort, Bild und Ton.  <br /><br />Heidewitzka! Das wird ein Jokus!<div cla
 ss="section"> </div><div class="section"> </div><div class="section"><span 
 style="color: #ff0000;"> Diese Veranstaltung findet als "Indoor" Event im c
 avallo königliche Reithalle statt. </span></div></div>
X-EXTRAINFO:Einlass: 18h\nBeginn: 19h\nEintritt: 25,90 / 21,90 (erm.)\n\n
DTSTAMP:20260426T061445Z
DTSTART;TZID=Europe/Berlin:20200831T190000
SEQUENCE:0
TRANSP:OPAQUE
END:VEVENT
END:VCALENDAR