BEGIN:VCALENDAR
VERSION:2.0
PRODID:-//jEvents 2.0 for Joomla//EN
CALSCALE:GREGORIAN
METHOD:PUBLISH
BEGIN:VTIMEZONE
TZID:Europe/Berlin
BEGIN:STANDARD
DTSTART:20191027T020000
RDATE:20200329T030000
TZOFFSETFROM:+0200
TZOFFSETTO:+0100
TZNAME:Europe/Berlin CET
END:STANDARD
BEGIN:STANDARD
DTSTART:20201025T020000
RDATE:20210328T030000
TZOFFSETFROM:+0200
TZOFFSETTO:+0100
TZNAME:Europe/Berlin CET
END:STANDARD
BEGIN:STANDARD
DTSTART:20211031T020000
RDATE:20220327T030000
TZOFFSETFROM:+0200
TZOFFSETTO:+0100
TZNAME:Europe/Berlin CET
END:STANDARD
BEGIN:STANDARD
DTSTART:20221030T020000
RDATE:20230326T030000
TZOFFSETFROM:+0200
TZOFFSETTO:+0100
TZNAME:Europe/Berlin CET
END:STANDARD
BEGIN:STANDARD
DTSTART:20231029T020000
RDATE:20240331T030000
TZOFFSETFROM:+0200
TZOFFSETTO:+0100
TZNAME:Europe/Berlin CET
END:STANDARD
BEGIN:STANDARD
DTSTART:20241027T020000
RDATE:20250330T030000
TZOFFSETFROM:+0200
TZOFFSETTO:+0100
TZNAME:Europe/Berlin CET
END:STANDARD
BEGIN:STANDARD
DTSTART:20251026T020000
RDATE:20260329T030000
TZOFFSETFROM:+0200
TZOFFSETTO:+0100
TZNAME:Europe/Berlin CET
END:STANDARD
BEGIN:STANDARD
DTSTART:20261025T020000
RDATE:20270328T030000
TZOFFSETFROM:+0200
TZOFFSETTO:+0100
TZNAME:Europe/Berlin CET
END:STANDARD
BEGIN:STANDARD
DTSTART:20271031T020000
RDATE:20280326T030000
TZOFFSETFROM:+0200
TZOFFSETTO:+0100
TZNAME:Europe/Berlin CET
END:STANDARD
BEGIN:DAYLIGHT
DTSTART:20190818T190000
RDATE:20191027T020000
TZOFFSETFROM:+0100
TZOFFSETTO:+0200
TZNAME:Europe/Berlin CEST
END:DAYLIGHT
BEGIN:DAYLIGHT
DTSTART:20200329T030000
RDATE:20201025T020000
TZOFFSETFROM:+0100
TZOFFSETTO:+0200
TZNAME:Europe/Berlin CEST
END:DAYLIGHT
BEGIN:DAYLIGHT
DTSTART:20210328T030000
RDATE:20211031T020000
TZOFFSETFROM:+0100
TZOFFSETTO:+0200
TZNAME:Europe/Berlin CEST
END:DAYLIGHT
BEGIN:DAYLIGHT
DTSTART:20220327T030000
RDATE:20221030T020000
TZOFFSETFROM:+0100
TZOFFSETTO:+0200
TZNAME:Europe/Berlin CEST
END:DAYLIGHT
BEGIN:DAYLIGHT
DTSTART:20230326T030000
RDATE:20231029T020000
TZOFFSETFROM:+0100
TZOFFSETTO:+0200
TZNAME:Europe/Berlin CEST
END:DAYLIGHT
BEGIN:DAYLIGHT
DTSTART:20240331T030000
RDATE:20241027T020000
TZOFFSETFROM:+0100
TZOFFSETTO:+0200
TZNAME:Europe/Berlin CEST
END:DAYLIGHT
BEGIN:DAYLIGHT
DTSTART:20250330T030000
RDATE:20251026T020000
TZOFFSETFROM:+0100
TZOFFSETTO:+0200
TZNAME:Europe/Berlin CEST
END:DAYLIGHT
BEGIN:DAYLIGHT
DTSTART:20260329T030000
RDATE:20261025T020000
TZOFFSETFROM:+0100
TZOFFSETTO:+0200
TZNAME:Europe/Berlin CEST
END:DAYLIGHT
BEGIN:DAYLIGHT
DTSTART:20270328T030000
RDATE:20271031T020000
TZOFFSETFROM:+0100
TZOFFSETTO:+0200
TZNAME:Europe/Berlin CEST
END:DAYLIGHT
END:VTIMEZONE
BEGIN:VEVENT
UID:fdeb094adc31badad19ddb8fc7a1c22d
CATEGORIES:Business / Events
CREATED:20200629T162447
SUMMARY:Exklusives VUN-Netzwerktreffen
DESCRIPTION:Exklusives VUN-Netzwerktreffen im Leibniz Theater Hannover für VUN-Mitglied
 er!Das VUN Netzwerk besucht uns und genießen bei uns einen exklusiven Abend
  inkl. Theaterstück, Speisen und Begrüßungscocktail.\nWie immer steht auch 
 bei diesem Netzwerktreffen des VUN Vereins- und Unternehmernetzwerkes wiede
 r das Kennenlernen und der Austausch von Kontaktdaten und die Erweiterung u
 nd Pflege der bestehenden Kontakte im Vordergrund.\n \nProgrammablauf (gepl
 ant):\n\n18:30 Uhr Einlass und Eintreffen der Teilnehmer im Leibniz Theater
 \n19:30 Uhr Beginn der Veranstaltung mit Begrüßung durch den VUN-Chef Thors
 ten Schulz und Leibniz Theater Inhaber Joachim Hieke\n19:45 Uhr Vorstellung
 srunde der Teilnehmer\n20:00 Uhr Besuch von "Herrn Leibniz", der das Netzwe
 rken zu seiner zeit vorstellt und weitere spannende Auszüge aus dem Leben v
 on Herrn Leibniz erzählt\n20:30 Uhr Einblick in das Theatergolfen mit einem
  kleinen Wettbewerb für die Teilnehmer\n20:45 Uhr Vorstellung der Leibniz W
 eine\n21:00 Uhr Ende der Veranstaltung, gemütliches Beisammensein und freie
 s Netzwerken\nÄnderungen vorbehalten!\n \nWeitere Infos:\nSpeisen: Leckere 
 Tomatensuppe plus kleine leckere Schnittchen und Süßigkeiten inkl. \nGeträn
 ke: Begrüßungcocktail - Leibniz Cocktail für jeden inkl.\nAlle anderen Getr
 änke oder Essenswünsche auf Selbstzahlerbasis.\nParkplätze: Auf den Straßen
  rund ums Leibniz Theater. \nEs wird die Anreise mit der Stadtbahn empfohle
 n: Linien 3, 7 &amp; 9 bis HS "Waterloo" (ca. 4 min zu Fuß zum Leibniz Thea
 ter).\n\nFür VUN Mitglieder bieten wir ein besonderes Angebot an: Das Netzw
 erktreffen mit Theatervorführung inkl. Speisen und Begrüßungscocktail für n
 ur 19,- Euro netto pro Person.\nJedes Mitglied darf bis zu vier Gäste mitbr
 ingen. Auch Gäste zahlen nur den Betrag von 19,- €. VUN Mitglieder melden i
 hre Gäste online mit an. ACHTUNG! Dies gilt nur für Gäste, die noch bei kei
 nem VUN-Nezuwerktreffen waren. Auch ehemalige Mitglieder sind von der Teiln
 ahme ausgeschlossen!\n \nBitte aufmerksam lesen: \nDie Anmeldung erfolgt au
 sschließlich über die Online-Buchung auf der VUN-Webseite. http://anmelden.
 vun-netzwerk.de/ \nDie Bestätigung (und die Reservierung eines Platzes) erh
 alten Sie mit Zahlung des in der Rechnung ausgewiesenen Betrages. VUN-Mitgl
 ieder melden Ihre Gäste mit an. Dazu die Anzahl der Teilnehmer auswählen un
 d die Namen der Teilnehmer eingeben.\n
X-ALT-DESC;FMTTYPE=text/html:<h4><strong>Exklusives VUN-Netzwerktreffen im Leibniz Theater Hannover für 
 VUN-Mitglieder!</strong></h4><p>Das VUN Netzwerk besucht uns und genießen b
 ei uns einen exklusiven Abend inkl. Theaterstück, Speisen und Begrüßungscoc
 ktail.</p><p>Wie immer steht auch bei diesem Netzwerktreffen des VUN Verein
 s- und Unternehmernetzwerkes wieder das Kennenlernen und der Austausch von 
 Kontaktdaten und die Erweiterung und Pflege der bestehenden Kontakte im Vor
 dergrund.</p><p> </p><p><strong><u>Programmablauf (geplant):<br /></u></str
 ong></p><p><strong>18:30 Uhr </strong>Einlass und Eintreffen der Teilnehmer
  im Leibniz Theater</p><p><strong>19:30 Uhr </strong>Beginn der Veranstaltu
 ng mit Begrüßung durch den VUN-Chef Thorsten Schulz und Leibniz Theater Inh
 aber Joachim Hieke</p><p><strong>19:45 Uhr </strong>Vorstellungsrunde der T
 eilnehmer</p><p><strong>20:00 Uhr</strong> Besuch von "Herrn Leibniz", der 
 das Netzwerken zu seiner zeit vorstellt und weitere spannende Auszüge aus d
 em Leben von Herrn Leibniz erzählt</p><p><strong>20:30 Uhr</strong> Einblic
 k in das Theatergolfen mit einem kleinen Wettbewerb für die Teilnehmer</p><
 p><strong>20:45 Uhr</strong> Vorstellung der Leibniz Weine</p><p><strong>21
 :00 Uhr</strong> Ende der Veranstaltung, gemütliches Beisammensein und frei
 es Netzwerken</p><p>Änderungen vorbehalten!</p><p> </p><p><strong><u>Weiter
 e Infos:</u></strong></p><p><strong>Speisen:</strong> Leckere Tomatensuppe 
 plus kleine leckere Schnittchen und Süßigkeiten inkl. <br /><strong>Getränk
 e:</strong> Begrüßungcocktail - Leibniz Cocktail für jeden inkl.<br />Alle 
 anderen Getränke oder Essenswünsche auf Selbstzahlerbasis.</p><p><strong>Pa
 rkplätze:</strong> Auf den Straßen rund ums Leibniz Theater. <br />Es wird 
 die Anreise mit der Stadtbahn empfohlen: Linien 3, 7 &amp; 9 bis HS "Waterl
 oo" (ca. 4 min zu Fuß zum Leibniz Theater).</p><div class="description cour
 se_text"><p><br />Für VUN Mitglieder bieten wir ein besonderes Angebot an: 
 Das Netzwerktreffen mit Theatervorführung inkl. Speisen und Begrüßungscockt
 ail für nur <strong>19,- Euro netto</strong> pro Person.</p><p>Jedes Mitgli
 ed darf bis zu vier Gäste mitbringen. Auch Gäste zahlen nur den Betrag von 
 19,- €. <span style="text-decoration: underline;">VUN Mitglieder melden ihr
 e Gäste online mit an</span>. ACHTUNG! Dies gilt nur für Gäste, die noch be
 i keinem VUN-Nezuwerktreffen waren. Auch ehemalige Mitglieder sind von der 
 Teilnahme ausgeschlossen!</p><p> </p><p><strong>Bitte aufmerksam lesen:</st
 rong> <br />Die Anmeldung erfolgt ausschließlich über die Online-Buchung au
 f der VUN-Webseite. <a href="http://anmelden.vun-netzwerk.de/">http://anmel
 den.vun-netzwerk.de/</a> <br />Die Bestätigung (und die Reservierung eines 
 Platzes) erhalten Sie mit Zahlung des in der Rechnung ausgewiesenen Betrage
 s. VUN-Mitglieder melden Ihre Gäste mit an. Dazu die Anzahl der Teilnehmer 
 auswählen und die Namen der Teilnehmer eingeben.</p></div>
DTSTAMP:20260426T061446Z
DTSTART;TZID=Europe/Berlin:20200818T190000
DTEND;TZID=Europe/Berlin:20200818T220000
SEQUENCE:0
TRANSP:OPAQUE
END:VEVENT
END:VCALENDAR