BEGIN:VCALENDAR
VERSION:2.0
PRODID:-//jEvents 2.0 for Joomla//EN
CALSCALE:GREGORIAN
METHOD:PUBLISH
BEGIN:VTIMEZONE
TZID:Europe/Berlin
BEGIN:STANDARD
DTSTART:20191027T020000
RDATE:20200329T030000
TZOFFSETFROM:+0200
TZOFFSETTO:+0100
TZNAME:Europe/Berlin CET
END:STANDARD
BEGIN:STANDARD
DTSTART:20201025T020000
RDATE:20210328T030000
TZOFFSETFROM:+0200
TZOFFSETTO:+0100
TZNAME:Europe/Berlin CET
END:STANDARD
BEGIN:STANDARD
DTSTART:20211031T020000
RDATE:20220327T030000
TZOFFSETFROM:+0200
TZOFFSETTO:+0100
TZNAME:Europe/Berlin CET
END:STANDARD
BEGIN:STANDARD
DTSTART:20221030T020000
RDATE:20230326T030000
TZOFFSETFROM:+0200
TZOFFSETTO:+0100
TZNAME:Europe/Berlin CET
END:STANDARD
BEGIN:STANDARD
DTSTART:20231029T020000
RDATE:20240331T030000
TZOFFSETFROM:+0200
TZOFFSETTO:+0100
TZNAME:Europe/Berlin CET
END:STANDARD
BEGIN:STANDARD
DTSTART:20241027T020000
RDATE:20250330T030000
TZOFFSETFROM:+0200
TZOFFSETTO:+0100
TZNAME:Europe/Berlin CET
END:STANDARD
BEGIN:STANDARD
DTSTART:20251026T020000
RDATE:20260329T030000
TZOFFSETFROM:+0200
TZOFFSETTO:+0100
TZNAME:Europe/Berlin CET
END:STANDARD
BEGIN:STANDARD
DTSTART:20261025T020000
RDATE:20270328T030000
TZOFFSETFROM:+0200
TZOFFSETTO:+0100
TZNAME:Europe/Berlin CET
END:STANDARD
BEGIN:STANDARD
DTSTART:20271031T020000
RDATE:20280326T030000
TZOFFSETFROM:+0200
TZOFFSETTO:+0100
TZNAME:Europe/Berlin CET
END:STANDARD
BEGIN:DAYLIGHT
DTSTART:20190829T190000
RDATE:20191027T020000
TZOFFSETFROM:+0100
TZOFFSETTO:+0200
TZNAME:Europe/Berlin CEST
END:DAYLIGHT
BEGIN:DAYLIGHT
DTSTART:20200329T030000
RDATE:20201025T020000
TZOFFSETFROM:+0100
TZOFFSETTO:+0200
TZNAME:Europe/Berlin CEST
END:DAYLIGHT
BEGIN:DAYLIGHT
DTSTART:20210328T030000
RDATE:20211031T020000
TZOFFSETFROM:+0100
TZOFFSETTO:+0200
TZNAME:Europe/Berlin CEST
END:DAYLIGHT
BEGIN:DAYLIGHT
DTSTART:20220327T030000
RDATE:20221030T020000
TZOFFSETFROM:+0100
TZOFFSETTO:+0200
TZNAME:Europe/Berlin CEST
END:DAYLIGHT
BEGIN:DAYLIGHT
DTSTART:20230326T030000
RDATE:20231029T020000
TZOFFSETFROM:+0100
TZOFFSETTO:+0200
TZNAME:Europe/Berlin CEST
END:DAYLIGHT
BEGIN:DAYLIGHT
DTSTART:20240331T030000
RDATE:20241027T020000
TZOFFSETFROM:+0100
TZOFFSETTO:+0200
TZNAME:Europe/Berlin CEST
END:DAYLIGHT
BEGIN:DAYLIGHT
DTSTART:20250330T030000
RDATE:20251026T020000
TZOFFSETFROM:+0100
TZOFFSETTO:+0200
TZNAME:Europe/Berlin CEST
END:DAYLIGHT
BEGIN:DAYLIGHT
DTSTART:20260329T030000
RDATE:20261025T020000
TZOFFSETFROM:+0100
TZOFFSETTO:+0200
TZNAME:Europe/Berlin CEST
END:DAYLIGHT
BEGIN:DAYLIGHT
DTSTART:20270328T030000
RDATE:20271031T020000
TZOFFSETFROM:+0100
TZOFFSETTO:+0200
TZNAME:Europe/Berlin CEST
END:DAYLIGHT
END:VTIMEZONE
BEGIN:VEVENT
UID:fe64c0fe408f43091640a11f0a274954
CATEGORIES:Konzerte
CREATED:20200714T172827
SUMMARY:Milou & Flint "blau über grün" - Kultur on the Beach am Maschsee
LOCATION:Die Insel by Aspria\, Rudolf-von-Bennigen-Ufer  81\, 30519 Hannover
DESCRIPTION:milou &amp; flint sind längst mehr als ein Geheimtipp – spätestens seit Ina
  Müller die\nbeiden persönlich in ihre Sendung „Inas Nacht“ Ende 2018 einge
 laden hatte. Es\nwar der musikalische Ritterschlag für die beiden Multiinst
 rumentalisten, die auch\nlive virtuos zwischen Klavier, Gitarre, Akkordeon,
  Fußschlagzeug, Vibraphon,\nTrompete und weiteren Instrumenten wechseln. Ih
 ren Poesie-Pop zeichnen\ndarüber hinaus die deutschsprachigen Texte aus, di
 e berührende Geschichten aus\ndem Leben erzählen. Mal bunt, mal fröhlich ve
 rspielt, mal nachdenklich.\nSie lieben das ehrlich Handgemachte und mit ihr
 em perfekten Harmoniegesang à\nla Simon &amp; Garfunkel verleihen sie jedem
  Auftritt eine gewisse Lagerfeuerromantik.\nNeben ihren zahlreichen Konzert
 en in Deutschland traten milou &amp; flint bereits bei\nKulturfestivals in 
 Japan, Portugal sowie Polen auf und erhielten 2018 den „Walthervon-\nder-Vo
 gelweide-Preis“ für junge Liedermacher. „Wenn wir ein tolles Konzert\ngespi
 elt haben, das die Besucher mit geschlossenen Augen genossen haben, wir\nda
 nn glücklich in Betten fallen und froh sind, mit unserer Musik Menschen\nbe
 geistern zu dürfen“, so beschreiben die beiden einen perfekten Tag.\nmilou 
 &amp; flint gehören definitiv auf die „100 things you have to hear before y
 ou die“-\nListe.\n\nDiese Veranstaltung findet als Open-Air-Event unter Ein
 haltung der aktuellen Hygienevorschriften im Die Insel by Aspria am Maschse
 e statt.\n
X-ALT-DESC;FMTTYPE=text/html:<p>milou &amp; flint sind längst mehr als ein Geheimtipp – spätestens seit 
 Ina Müller die<br />beiden persönlich in ihre Sendung „Inas Nacht“ Ende 201
 8 eingeladen hatte. Es<br />war der musikalische Ritterschlag für die beide
 n Multiinstrumentalisten, die auch<br />live virtuos zwischen Klavier, Gita
 rre, Akkordeon, Fußschlagzeug, Vibraphon,<br />Trompete und weiteren Instru
 menten wechseln. Ihren Poesie-Pop zeichnen<br />darüber hinaus die deutschs
 prachigen Texte aus, die berührende Geschichten aus<br />dem Leben erzählen
 . Mal bunt, mal fröhlich verspielt, mal nachdenklich.<br />Sie lieben das e
 hrlich Handgemachte und mit ihrem perfekten Harmoniegesang à<br />la Simon 
 &amp; Garfunkel verleihen sie jedem Auftritt eine gewisse Lagerfeuerromanti
 k.<br />Neben ihren zahlreichen Konzerten in Deutschland traten milou &amp;
  flint bereits bei<br />Kulturfestivals in Japan, Portugal sowie Polen auf 
 und erhielten 2018 den „Walthervon-<br />der-Vogelweide-Preis“ für junge Li
 edermacher. „Wenn wir ein tolles Konzert<br />gespielt haben, das die Besuc
 her mit geschlossenen Augen genossen haben, wir<br />dann glücklich in Bett
 en fallen und froh sind, mit unserer Musik Menschen<br />begeistern zu dürf
 en“, so beschreiben die beiden einen perfekten Tag.<br />milou &amp; flint 
 gehören definitiv auf die „100 things you have to hear before you die“-<br 
 />Liste.<br /><br /><span style="color: #ff0000;">Diese Veranstaltung finde
 t als Open-Air-Event unter Einhaltung der aktuellen Hygienevorschriften im 
 Die Insel by Aspria am Maschsee statt.</span></p>
X-EXTRAINFO:Einlass: 18h\nBeginn: 19h\nEintritt: 28,90 / 24,90 (erm.)\n\n
DTSTAMP:20260426T061445Z
DTSTART;TZID=Europe/Berlin:20200829T190000
SEQUENCE:0
TRANSP:OPAQUE
END:VEVENT
END:VCALENDAR