BEGIN:VCALENDAR
VERSION:2.0
PRODID:-//jEvents 2.0 for Joomla//EN
CALSCALE:GREGORIAN
METHOD:PUBLISH
BEGIN:VTIMEZONE
TZID:Europe/Berlin
BEGIN:STANDARD
DTSTART:20191027T020000
RDATE:20200329T030000
TZOFFSETFROM:+0200
TZOFFSETTO:+0100
TZNAME:Europe/Berlin CET
END:STANDARD
BEGIN:STANDARD
DTSTART:20201025T020000
RDATE:20210328T030000
TZOFFSETFROM:+0200
TZOFFSETTO:+0100
TZNAME:Europe/Berlin CET
END:STANDARD
BEGIN:STANDARD
DTSTART:20211031T020000
RDATE:20220327T030000
TZOFFSETFROM:+0200
TZOFFSETTO:+0100
TZNAME:Europe/Berlin CET
END:STANDARD
BEGIN:STANDARD
DTSTART:20221030T020000
RDATE:20230326T030000
TZOFFSETFROM:+0200
TZOFFSETTO:+0100
TZNAME:Europe/Berlin CET
END:STANDARD
BEGIN:STANDARD
DTSTART:20231029T020000
RDATE:20240331T030000
TZOFFSETFROM:+0200
TZOFFSETTO:+0100
TZNAME:Europe/Berlin CET
END:STANDARD
BEGIN:STANDARD
DTSTART:20241027T020000
RDATE:20250330T030000
TZOFFSETFROM:+0200
TZOFFSETTO:+0100
TZNAME:Europe/Berlin CET
END:STANDARD
BEGIN:STANDARD
DTSTART:20251026T020000
RDATE:20260329T030000
TZOFFSETFROM:+0200
TZOFFSETTO:+0100
TZNAME:Europe/Berlin CET
END:STANDARD
BEGIN:STANDARD
DTSTART:20261025T020000
RDATE:20270328T030000
TZOFFSETFROM:+0200
TZOFFSETTO:+0100
TZNAME:Europe/Berlin CET
END:STANDARD
BEGIN:STANDARD
DTSTART:20271031T020000
RDATE:20280326T030000
TZOFFSETFROM:+0200
TZOFFSETTO:+0100
TZNAME:Europe/Berlin CET
END:STANDARD
BEGIN:DAYLIGHT
DTSTART:20190822T190000
RDATE:20191027T020000
TZOFFSETFROM:+0100
TZOFFSETTO:+0200
TZNAME:Europe/Berlin CEST
END:DAYLIGHT
BEGIN:DAYLIGHT
DTSTART:20200329T030000
RDATE:20201025T020000
TZOFFSETFROM:+0100
TZOFFSETTO:+0200
TZNAME:Europe/Berlin CEST
END:DAYLIGHT
BEGIN:DAYLIGHT
DTSTART:20210328T030000
RDATE:20211031T020000
TZOFFSETFROM:+0100
TZOFFSETTO:+0200
TZNAME:Europe/Berlin CEST
END:DAYLIGHT
BEGIN:DAYLIGHT
DTSTART:20220327T030000
RDATE:20221030T020000
TZOFFSETFROM:+0100
TZOFFSETTO:+0200
TZNAME:Europe/Berlin CEST
END:DAYLIGHT
BEGIN:DAYLIGHT
DTSTART:20230326T030000
RDATE:20231029T020000
TZOFFSETFROM:+0100
TZOFFSETTO:+0200
TZNAME:Europe/Berlin CEST
END:DAYLIGHT
BEGIN:DAYLIGHT
DTSTART:20240331T030000
RDATE:20241027T020000
TZOFFSETFROM:+0100
TZOFFSETTO:+0200
TZNAME:Europe/Berlin CEST
END:DAYLIGHT
BEGIN:DAYLIGHT
DTSTART:20250330T030000
RDATE:20251026T020000
TZOFFSETFROM:+0100
TZOFFSETTO:+0200
TZNAME:Europe/Berlin CEST
END:DAYLIGHT
BEGIN:DAYLIGHT
DTSTART:20260329T030000
RDATE:20261025T020000
TZOFFSETFROM:+0100
TZOFFSETTO:+0200
TZNAME:Europe/Berlin CEST
END:DAYLIGHT
BEGIN:DAYLIGHT
DTSTART:20270328T030000
RDATE:20271031T020000
TZOFFSETFROM:+0100
TZOFFSETTO:+0200
TZNAME:Europe/Berlin CEST
END:DAYLIGHT
END:VTIMEZONE
BEGIN:VEVENT
UID:2f9e97acb5e7b28179aa9eb168386c27
CATEGORIES:Konzerte
CREATED:20200721T111958
SUMMARY:Dickes C. - Kultur on the Beach am Maschsee
LOCATION:Die Insel by Aspria\, Rudolf-von-Bennigen-Ufer  81\, 30519 Hannover
DESCRIPTION:Mit Dickes C hat sich eine neue Band mit hochkarätigen Musikern zusammengef
 unden: Cyril, Cello, Cille und Christopher! An der Front, Cyril Krueger, de
 r stadtbekannte Sänger der Band The Jetlags und sein Mucker-Ehepartner Cell
 o Szot (bäm). Im Auftrag des Kulturerhalts tourten die beiden mit dem Biere
 xpress (bekannt aus Funk und Fernsehen) während der Krise durch das ganze L
 and und versorgten die Menschen mit Live-Musik. Auf ihrem Weg schlossen sic
 h zwei weitere C’s an: Die Groove-Eule Cille alias Hilmar Kahl am Bass und 
 der Ausnahmesaxophonist Christopher Spintge (The Dome, BRAVO Supershow, Die
 ter Bohlen). In kürzester Zeit spielten sich die Vier in die Herzen der Han
 noveraner und erfanden dabei ihren Sound komplett neu. Hinter Dickes C verb
 irgt ein Fusion aus allen denkbaren Musikgenres im MTV Unplugged-Style, die
  eure Seelen kneten wird.  Dicke Grooves, fette Cajon-Beats und ein drücken
 des Sax werden das Südufer in paradiesisches Bacardi Feeling einlullen. Wäh
 rend die Sonne bei Maschseerauschen hinter dem Stadion untergeht und Christ
 opher euch mit seiner Hupe wie eine altgriechische Sirene in den Bann zieht
 , werdet ihr euch fragen, ob ihr in letzter Zeit jemals beflügelter gewesen
  seid. Versprochen!Dick auftragen können die Jungs schon mal! Überzeugt euc
 h jetzt selbst davon. Ein dickes Problem hat nur derjenige, der es verpasst
 !\n\nDiese Veranstaltung findet als Open-Air-Event unter Einhaltung der akt
 uellen Hygienevorschriften im Die Insel by Aspria am Maschsee statt.\n
X-ALT-DESC;FMTTYPE=text/html:<div><blockquote class=""><div class=""><div class="">Mit Dickes C hat sich
  eine neue Band mit hochkarätigen Musikern zusammengefunden: Cyril, Cello, 
 Cille und Christopher! An der Front, Cyril Krueger, der stadtbekannte Sänge
 r der Band The Jetlags und sein Mucker-Ehepartner Cello Szot (bäm). Im Auft
 rag des Kulturerhalts tourten die beiden mit dem Bierexpress (bekannt aus F
 unk und Fernsehen) während der Krise durch das ganze Land und versorgten di
 e Menschen mit Live-Musik. Auf ihrem Weg schlossen sich zwei weitere C’s an
 : Die Groove-Eule Cille alias Hilmar Kahl am Bass und der Ausnahmesaxophoni
 st Christopher Spintge (The Dome, BRAVO Supershow, Dieter Bohlen). In kürze
 ster Zeit spielten sich die Vier in die Herzen der Hannoveraner und erfande
 n dabei ihren Sound komplett neu. Hinter Dickes C verbirgt ein Fusion aus a
 llen denkbaren Musikgenres im MTV Unplugged-Style, die eure Seelen kneten w
 ird.  Dicke Grooves, fette Cajon-Beats und ein drückendes Sax werden das Sü
 dufer in paradiesisches Bacardi Feeling einlullen. Während die Sonne bei Ma
 schseerauschen hinter dem Stadion untergeht und Christopher euch mit seiner
  Hupe wie eine altgriechische Sirene in den Bann zieht, werdet ihr euch fra
 gen, ob ihr in letzter Zeit jemals beflügelter gewesen seid. Versprochen!<b
 r class="" /><br class="" />Dick auftragen können die Jungs schon mal! Über
 zeugt euch jetzt selbst davon. Ein dickes Problem hat nur derjenige, der es
  verpasst!</div></div></blockquote></div><p><br /><br /><span style="color:
  #ff0000;">Diese Veranstaltung findet als Open-Air-Event unter Einhaltung d
 er aktuellen Hygienevorschriften im Die Insel by Aspria am Maschsee statt.<
 /span></p>
X-EXTRAINFO:Einlass: 18h\nBeginn: 19h\nEintritt: 25,90 / 21,90 (erm.)\n\n
DTSTAMP:20260426T061447Z
DTSTART;TZID=Europe/Berlin:20200822T190000
SEQUENCE:0
TRANSP:OPAQUE
END:VEVENT
END:VCALENDAR