BEGIN:VCALENDAR
VERSION:2.0
PRODID:-//jEvents 2.0 for Joomla//EN
CALSCALE:GREGORIAN
METHOD:PUBLISH
BEGIN:VTIMEZONE
TZID:Europe/Berlin
BEGIN:STANDARD
DTSTART:20191027T020000
RDATE:20200329T030000
TZOFFSETFROM:+0200
TZOFFSETTO:+0100
TZNAME:Europe/Berlin CET
END:STANDARD
BEGIN:STANDARD
DTSTART:20201025T020000
RDATE:20210328T030000
TZOFFSETFROM:+0200
TZOFFSETTO:+0100
TZNAME:Europe/Berlin CET
END:STANDARD
BEGIN:STANDARD
DTSTART:20211031T020000
RDATE:20220327T030000
TZOFFSETFROM:+0200
TZOFFSETTO:+0100
TZNAME:Europe/Berlin CET
END:STANDARD
BEGIN:STANDARD
DTSTART:20221030T020000
RDATE:20230326T030000
TZOFFSETFROM:+0200
TZOFFSETTO:+0100
TZNAME:Europe/Berlin CET
END:STANDARD
BEGIN:STANDARD
DTSTART:20231029T020000
RDATE:20240331T030000
TZOFFSETFROM:+0200
TZOFFSETTO:+0100
TZNAME:Europe/Berlin CET
END:STANDARD
BEGIN:STANDARD
DTSTART:20241027T020000
RDATE:20250330T030000
TZOFFSETFROM:+0200
TZOFFSETTO:+0100
TZNAME:Europe/Berlin CET
END:STANDARD
BEGIN:STANDARD
DTSTART:20251026T020000
RDATE:20260329T030000
TZOFFSETFROM:+0200
TZOFFSETTO:+0100
TZNAME:Europe/Berlin CET
END:STANDARD
BEGIN:STANDARD
DTSTART:20261025T020000
RDATE:20270328T030000
TZOFFSETFROM:+0200
TZOFFSETTO:+0100
TZNAME:Europe/Berlin CET
END:STANDARD
BEGIN:STANDARD
DTSTART:20271031T020000
RDATE:20280326T030000
TZOFFSETFROM:+0200
TZOFFSETTO:+0100
TZNAME:Europe/Berlin CET
END:STANDARD
BEGIN:DAYLIGHT
DTSTART:20190819T190000
RDATE:20191027T020000
TZOFFSETFROM:+0100
TZOFFSETTO:+0200
TZNAME:Europe/Berlin CEST
END:DAYLIGHT
BEGIN:DAYLIGHT
DTSTART:20200329T030000
RDATE:20201025T020000
TZOFFSETFROM:+0100
TZOFFSETTO:+0200
TZNAME:Europe/Berlin CEST
END:DAYLIGHT
BEGIN:DAYLIGHT
DTSTART:20210328T030000
RDATE:20211031T020000
TZOFFSETFROM:+0100
TZOFFSETTO:+0200
TZNAME:Europe/Berlin CEST
END:DAYLIGHT
BEGIN:DAYLIGHT
DTSTART:20220327T030000
RDATE:20221030T020000
TZOFFSETFROM:+0100
TZOFFSETTO:+0200
TZNAME:Europe/Berlin CEST
END:DAYLIGHT
BEGIN:DAYLIGHT
DTSTART:20230326T030000
RDATE:20231029T020000
TZOFFSETFROM:+0100
TZOFFSETTO:+0200
TZNAME:Europe/Berlin CEST
END:DAYLIGHT
BEGIN:DAYLIGHT
DTSTART:20240331T030000
RDATE:20241027T020000
TZOFFSETFROM:+0100
TZOFFSETTO:+0200
TZNAME:Europe/Berlin CEST
END:DAYLIGHT
BEGIN:DAYLIGHT
DTSTART:20250330T030000
RDATE:20251026T020000
TZOFFSETFROM:+0100
TZOFFSETTO:+0200
TZNAME:Europe/Berlin CEST
END:DAYLIGHT
BEGIN:DAYLIGHT
DTSTART:20260329T030000
RDATE:20261025T020000
TZOFFSETFROM:+0100
TZOFFSETTO:+0200
TZNAME:Europe/Berlin CEST
END:DAYLIGHT
BEGIN:DAYLIGHT
DTSTART:20270328T030000
RDATE:20271031T020000
TZOFFSETFROM:+0100
TZOFFSETTO:+0200
TZNAME:Europe/Berlin CEST
END:DAYLIGHT
END:VTIMEZONE
BEGIN:VEVENT
UID:1faf64ff4d4bd836488261e4dfa696a3
CATEGORIES:Konzerte
CREATED:20200727T115906
SUMMARY:The Jetlags Unplugged Zusatzkonzert "Kultur on the Beach" Open-Air
LOCATION:Azzurro Beach\, Am Blauen See 119\, 30823 Garbsen
DESCRIPTION: \nSeit nunmehr 16 Jahren begeistern The Jetlags mit ihrer einzigartigen un
 d publikumsnahen Performance ihr Publikum. Mit Witz und Charme haben sich d
 ie fünf Musiker Jan, Henrik, Markus, Marcel und der stadtbekannte Frontsäng
 er Cyril einen Namen als „eine der besten Show- und Partybands Norddeutschl
 ands“ gemacht. Doch im Leibniztheater wollen Sie ihre andere Seite präsenti
 eren. Für einen Abend werden brüllende Verstärker gegen Akustik-Gitarren ei
 ngetauscht und die Partyzone in ein gemütliches Wohnzimmer verwandelt. \n\n
 Freut euch auf einen aufregenden und unterhaltsamen Abend mit vielen Überra
 schungen. \n\nEins können wir euch versprechen: So intim hat man diese Band
  noch nie erlebt! \nDiese Veranstaltung findet als Open-Air-Event unter Ein
 haltung der aktuellen Hygienevorschriften im Azzurro Beach am Blauen See in
  Garbsen statt. \n\nBitte beachten Sie, bei Anreise mit dem Auto fallen Par
 kgebühren in Höhe von 2€ an. \nFür den Eintritt zum See fallen 4€ an, die k
 omplett für den Verzehr genutzt werden können.\n \n
X-ALT-DESC;FMTTYPE=text/html:<p> </p><p>Seit nunmehr 16 Jahren begeistern The Jetlags mit ihrer einzigar
 tigen und publikumsnahen Performance ihr Publikum. Mit Witz und Charme habe
 n sich die fünf Musiker Jan, Henrik, Markus, Marcel und der stadtbekannte F
 rontsänger Cyril einen Namen als „eine der besten Show- und Partybands Nord
 deutschlands“ gemacht. Doch im Leibniztheater wollen Sie ihre andere Seite 
 präsentieren. Für einen Abend werden brüllende Verstärker gegen Akustik-Git
 arren eingetauscht und die Partyzone in ein gemütliches Wohnzimmer verwande
 lt. <br /><br />Freut euch auf einen aufregenden und unterhaltsamen Abend m
 it vielen Überraschungen. <br /><br />Eins können wir euch versprechen: So 
 intim hat man diese Band noch nie erlebt! </p><p><span style="color: #ff000
 0;">Diese Veranstaltung findet als Open-Air-Event unter Einhaltung der aktu
 ellen Hygienevorschriften im Azzurro Beach am Blauen See in Garbsen statt. 
 </span><br /><br /><span style="color: #ff0000;">Bitte beachten Sie, bei An
 reise mit dem Auto fallen Parkgebühren in Höhe von 2€ an. </span><br /><spa
 n style="color: #ff0000;">Für den Eintritt zum See fallen 4€ an, die komple
 tt für den Verzehr genutzt werden können.</span></p><p> </p>
X-EXTRAINFO:Einlass: 18:00h\nBeginn: 19h\nEintritt: 28,90€ / erm. 24,90€
DTSTAMP:20260426T061446Z
DTSTART;TZID=Europe/Berlin:20200819T190000
SEQUENCE:0
TRANSP:OPAQUE
END:VEVENT
END:VCALENDAR