BEGIN:VCALENDAR
VERSION:2.0
PRODID:-//jEvents 2.0 for Joomla//EN
CALSCALE:GREGORIAN
METHOD:PUBLISH
BEGIN:VTIMEZONE
TZID:Europe/Berlin
BEGIN:STANDARD
DTSTART:20191027T020000
RDATE:20200329T030000
TZOFFSETFROM:+0200
TZOFFSETTO:+0100
TZNAME:Europe/Berlin CET
END:STANDARD
BEGIN:STANDARD
DTSTART:20201025T020000
RDATE:20210328T030000
TZOFFSETFROM:+0200
TZOFFSETTO:+0100
TZNAME:Europe/Berlin CET
END:STANDARD
BEGIN:STANDARD
DTSTART:20211031T020000
RDATE:20220327T030000
TZOFFSETFROM:+0200
TZOFFSETTO:+0100
TZNAME:Europe/Berlin CET
END:STANDARD
BEGIN:STANDARD
DTSTART:20221030T020000
RDATE:20230326T030000
TZOFFSETFROM:+0200
TZOFFSETTO:+0100
TZNAME:Europe/Berlin CET
END:STANDARD
BEGIN:STANDARD
DTSTART:20231029T020000
RDATE:20240331T030000
TZOFFSETFROM:+0200
TZOFFSETTO:+0100
TZNAME:Europe/Berlin CET
END:STANDARD
BEGIN:STANDARD
DTSTART:20241027T020000
RDATE:20250330T030000
TZOFFSETFROM:+0200
TZOFFSETTO:+0100
TZNAME:Europe/Berlin CET
END:STANDARD
BEGIN:STANDARD
DTSTART:20251026T020000
RDATE:20260329T030000
TZOFFSETFROM:+0200
TZOFFSETTO:+0100
TZNAME:Europe/Berlin CET
END:STANDARD
BEGIN:STANDARD
DTSTART:20261025T020000
RDATE:20270328T030000
TZOFFSETFROM:+0200
TZOFFSETTO:+0100
TZNAME:Europe/Berlin CET
END:STANDARD
BEGIN:STANDARD
DTSTART:20271031T020000
RDATE:20280326T030000
TZOFFSETFROM:+0200
TZOFFSETTO:+0100
TZNAME:Europe/Berlin CET
END:STANDARD
BEGIN:DAYLIGHT
DTSTART:20190830T180000
RDATE:20191027T020000
TZOFFSETFROM:+0100
TZOFFSETTO:+0200
TZNAME:Europe/Berlin CEST
END:DAYLIGHT
BEGIN:DAYLIGHT
DTSTART:20200329T030000
RDATE:20201025T020000
TZOFFSETFROM:+0100
TZOFFSETTO:+0200
TZNAME:Europe/Berlin CEST
END:DAYLIGHT
BEGIN:DAYLIGHT
DTSTART:20210328T030000
RDATE:20211031T020000
TZOFFSETFROM:+0100
TZOFFSETTO:+0200
TZNAME:Europe/Berlin CEST
END:DAYLIGHT
BEGIN:DAYLIGHT
DTSTART:20220327T030000
RDATE:20221030T020000
TZOFFSETFROM:+0100
TZOFFSETTO:+0200
TZNAME:Europe/Berlin CEST
END:DAYLIGHT
BEGIN:DAYLIGHT
DTSTART:20230326T030000
RDATE:20231029T020000
TZOFFSETFROM:+0100
TZOFFSETTO:+0200
TZNAME:Europe/Berlin CEST
END:DAYLIGHT
BEGIN:DAYLIGHT
DTSTART:20240331T030000
RDATE:20241027T020000
TZOFFSETFROM:+0100
TZOFFSETTO:+0200
TZNAME:Europe/Berlin CEST
END:DAYLIGHT
BEGIN:DAYLIGHT
DTSTART:20250330T030000
RDATE:20251026T020000
TZOFFSETFROM:+0100
TZOFFSETTO:+0200
TZNAME:Europe/Berlin CEST
END:DAYLIGHT
BEGIN:DAYLIGHT
DTSTART:20260329T030000
RDATE:20261025T020000
TZOFFSETFROM:+0100
TZOFFSETTO:+0200
TZNAME:Europe/Berlin CEST
END:DAYLIGHT
BEGIN:DAYLIGHT
DTSTART:20270328T030000
RDATE:20271031T020000
TZOFFSETFROM:+0100
TZOFFSETTO:+0200
TZNAME:Europe/Berlin CEST
END:DAYLIGHT
END:VTIMEZONE
BEGIN:VEVENT
UID:54af279d117041a5e83c02a3b6b7772b
CATEGORIES:Comedy
CREATED:20200729T154309
SUMMARY:Ingo Oschmann "Mit Abstand: Mein Bestes Programm" "Leibniz goes cavallo"
LOCATION:cavallo königliche Reithalle
DESCRIPTION:Mit Abstand: Mein BESTES Programm\nIngo hat einen Mix aus seinen besten Num
 mern geschnürt, die ohne Bühnenbeteiligung und mit Abstand am Besten sind.\
 nUngewöhnliche Zeiten erfordern eben ungewöhnliche Maßnahmen und da ist der
  Bielefelder ganz groß. Alle seine Shows in Zeiten von Corona wurden bis je
 tzt von Presse und Publikum gefeiert und hochgelobt denn er nimmt nicht nur
  die Herausforderung an, er meistert sie auch mit Bravour.\nIngo sucht trot
 z Distanz die Nähe zu seinem Publikum und schafft einen besonderen, persönl
 ichen Abend. Stand up, Zauberkunst, Improvisation geben sich im Sekundentak
 t die Klinke in die Hand, wobei auch der Tiefgang nicht zu kurz kommt.\nDie
 se Zeit wird in die Geschichte eingehen und irgendwann wird Dich jemand Fra
 gen: „Wo warst Du damals in der Corona Krise?“ Zuhause? Und du kannst sagen
 : “Nein, bei Ingo Oschmann. Wir haben für einen Moment Gemeinsam die Krise 
 weggelacht und es tat unglaublich gut.“\n Diese Veranstaltung findet als Op
 en-Air-Event unter Einhaltung der aktuellen Hygienevorschriften im Biergart
 en im "cavallo königliche Reithalle" statt. Bei schlechtem Wetter wird die 
 Veranstaltung im Indoor verlegt.\n
X-ALT-DESC;FMTTYPE=text/html:<div class="page" title="Page 1"><div class="layoutArea"><div class="column
 "><p>Mit Abstand: Mein BESTES Programm</p><p>Ingo hat einen Mix aus seinen 
 besten Nummern geschnürt, die ohne Bühnenbeteiligung und mit Abstand am Bes
 ten sind.</p><p>Ungewöhnliche Zeiten erfordern eben ungewöhnliche Maßnahmen
  und da ist der Bielefelder ganz groß. Alle seine Shows in Zeiten von Coron
 a wurden bis jetzt von Presse und Publikum gefeiert und hochgelobt denn er 
 nimmt nicht nur die Herausforderung an, er meistert sie auch mit Bravour.</
 p><p>Ingo sucht trotz Distanz die Nähe zu seinem Publikum und schafft einen
  besonderen, persönlichen Abend. Stand up, Zauberkunst, Improvisation geben
  sich im Sekundentakt die Klinke in die Hand, wobei auch der Tiefgang nicht
  zu kurz kommt.</p><p>Diese Zeit wird in die Geschichte eingehen und irgend
 wann wird Dich jemand Fragen: „Wo warst Du damals in der Corona Krise?“ Zuh
 ause? Und du kannst sagen: “Nein, bei Ingo Oschmann. Wir haben für einen Mo
 ment Gemeinsam die Krise weggelacht und es tat unglaublich gut.“</p></div><
 /div></div><p> Diese Veranstaltung findet als Open-Air-Event unter Einhaltu
 ng der aktuellen Hygienevorschriften im Biergarten im "cavallo königliche R
 eithalle" statt. Bei schlechtem Wetter wird die Veranstaltung im Indoor ver
 legt.</p>
X-EXTRAINFO:Einlass: 17h\nBeginn: 18h\nEintritt: 25,90 / 21,90 (erm.)
DTSTAMP:20260426T061448Z
DTSTART;TZID=Europe/Berlin:20200830T180000
SEQUENCE:0
TRANSP:OPAQUE
END:VEVENT
END:VCALENDAR